BEGIN:VCALENDAR
VERSION:2.0
PRODID:-//Zero Waste Aruba - ECPv5.9.1//NONSGML v1.0//EN
CALSCALE:GREGORIAN
METHOD:PUBLISH
X-WR-CALNAME:Zero Waste Aruba
X-ORIGINAL-URL:https://arubazerowaste.com
X-WR-CALDESC:Events for Zero Waste Aruba
BEGIN:VTIMEZONE
TZID:UTC
BEGIN:STANDARD
TZOFFSETFROM:+0000
TZOFFSETTO:+0000
TZNAME:UTC
DTSTART:20210101T000000
END:STANDARD
END:VTIMEZONE
BEGIN:VEVENT
DTSTART;TZID=UTC:20211107T080000
DTEND;TZID=UTC:20211107T100000
DTSTAMP:20260421T192034
CREATED:20211106T034132Z
LAST-MODIFIED:20211106T034132Z
UID:720-1636272000-1636279200@arubazerowaste.com
SUMMARY:Beach Clean Up-ScubbleBubbles
DESCRIPTION:Volunteers needed for beach clean-up \nIf you are interested\, just show up to Grapefield Beach at 8 am on November 11th\, 2021. \nBring gloves\, water\, hat\, snack\, and reef safe sunscreen. \nhttps://www.facebook.com/ScubbleBubbles
URL:https://arubazerowaste.com/event/beach-clean-up-scubblebubbles-5/
END:VEVENT
BEGIN:VEVENT
DTSTART;TZID=UTC:20211106T070000
DTEND;TZID=UTC:20211106T110000
DTSTAMP:20260421T192034
CREATED:20211029T024410Z
LAST-MODIFIED:20211029T033047Z
UID:679-1636182000-1636196400@arubazerowaste.com
SUMMARY:Sample Collections- Ocean Science- Micro Plastic Pollution-Week 3
DESCRIPTION:Ocean Science- Micro Plastic Pollution Week 3 \n7am-11am November 6th \nBubali \nBin yuda nos collecta samples di santo blanco pa now por analisa micro-plastic. Mas participante join mas grandi e area di beach nos por cubri. Esaki ta e prome stap di e programa pa pow analisa micro platic. \nHelp us collect sand samples for micro-plastic analysis. The more volunteers we have\, the broader the section of the beach that we can look at! This is the first step in our micro-plastic monitoring program.
URL:https://arubazerowaste.com/event/ocean-science-micro-plastic-pollution-week-3/
END:VEVENT
BEGIN:VEVENT
DTSTART;TZID=UTC:20211105T093000
DTEND;TZID=UTC:20211105T160000
DTSTAMP:20260421T192034
CREATED:20210920T034230Z
LAST-MODIFIED:20210920T034741Z
UID:524-1636104600-1636128000@arubazerowaste.com
SUMMARY:Recycling Plastic
DESCRIPTION:Plastic Beach Party needs volunteers to help sort\, cut and wash plastics every Friday. \n  \nSign-up on their website with the contact form at the bottom of the page. \n  \nhttps://www.plasticbeachparty.com/?fbclid=IwAR1LxPU3c3WfH7-T1c7hrB5xK7wFfAm0NWfwwgxW9nZJ7N6ncG1dNwi2Ey0
URL:https://arubazerowaste.com/event/recycle-plastics/
LOCATION:Flemingstraat 26\, Flemingstraat 26\, Aruba
END:VEVENT
BEGIN:VEVENT
DTSTART;TZID=UTC:20211103T180000
DTEND;TZID=UTC:20211103T200000
DTSTAMP:20260421T192034
CREATED:20211029T032152Z
LAST-MODIFIED:20211029T032152Z
UID:704-1635962400-1635969600@arubazerowaste.com
SUMMARY:GIS Mapping-Ocean Science- Micro Plastic Pollution Week 3
DESCRIPTION:  \n6pm-8pm November 3rd \nAt Brenchie’s Lab \nWe’re measuring the coast using google earth engine (GIS) \, if you’re interested in geo-spatial analysis\, coding or beach erosion and feel like spending hours on a computer testing code from github\, join us Wednesday night 6pm-8pm
URL:https://arubazerowaste.com/event/gis-mapping-ocean-science-micro-plastic-pollution-week-3/
LOCATION:Brenchie’s Lab\, Caya G. F. Betico Croes 59\, Oranjestad\, Aruba
END:VEVENT
BEGIN:VEVENT
DTSTART;TZID=UTC:20211030T170000
DTEND;TZID=UTC:20211030T210000
DTSTAMP:20260421T192034
CREATED:20211006T225258Z
LAST-MODIFIED:20211021T160942Z
UID:644-1635613200-1635627600@arubazerowaste.com
SUMMARY:Climate TED talk event- Aruba
DESCRIPTION:Climate TED talk event in Aruba \nStreaming live on Telearuba and countdown.ted.com \n5pm-9pm on October 30th
URL:https://arubazerowaste.com/event/climate-ted-talk-event/
LOCATION:Arikok National Park\, San Fuego 70\, Santa Cruz\, Aruba
END:VEVENT
BEGIN:VEVENT
DTSTART;TZID=UTC:20211030T070000
DTEND;TZID=UTC:20211030T090000
DTSTAMP:20260421T192034
CREATED:20211023T135309Z
LAST-MODIFIED:20211029T033109Z
UID:676-1635577200-1635584400@arubazerowaste.com
SUMMARY:Sample Collections- Ocean Science- Micro Plastic Pollution-Week 2
DESCRIPTION:Ocean Science- Micro Plastic Pollution Week 2 \n7am-9am October 30th \nBehinds JAD’s Dive center \nBin yuda nos collecta samples di santo blanco pa now por analisa micro-plastic. Mas participante join mas grandi e area di beach nos por cubri. Esaki ta e prome stap di e programa pa pow analisa micro platic. \nHelp us collect sand samples for micro-plastic analysis. The more volunteers we have\, the broader the section of the beach that we can look at! This is the first step in our micro-plastic monitoring program.
URL:https://arubazerowaste.com/event/ocean-science-micro-plastic-pollution-week-2/
END:VEVENT
BEGIN:VEVENT
DTSTART;TZID=UTC:20211029T093000
DTEND;TZID=UTC:20211029T160000
DTSTAMP:20260421T192034
CREATED:20210920T034143Z
LAST-MODIFIED:20210920T034143Z
UID:522-1635499800-1635523200@arubazerowaste.com
SUMMARY:Recycling Plastic
DESCRIPTION:Plastic Beach Party needs volunteers to help sort\, cut and wash plastics every Friday. \n  \nSign-up on their website with the contact form at the bottom of the page. \n  \nhttps://www.plasticbeachparty.com/?fbclid=IwAR1LxPU3c3WfH7-T1c7hrB5xK7wFfAm0NWfwwgxW9nZJ7N6ncG1dNwi2Ey0
URL:https://arubazerowaste.com/event/recycling-plastic-5/
LOCATION:Flemingstraat 26\, Flemingstraat 26\, Aruba
END:VEVENT
BEGIN:VEVENT
DTSTART;TZID=UTC:20211027T180000
DTEND;TZID=UTC:20211027T200000
DTSTAMP:20260421T192034
CREATED:20211029T031915Z
LAST-MODIFIED:20211029T031935Z
UID:698-1635357600-1635364800@arubazerowaste.com
SUMMARY:GIS Mapping-Ocean Science- Micro Plastic Pollution Week 2
DESCRIPTION:  \n6pm-8pm October 27th \nAt Brenchie’s Lab \nWe’re measuring the coast using google earth engine (GIS) \, if you’re interested in geo-spatial analysis\, coding or beach erosion and feel like spending hours on a computer testing code from github\, join us Wednesday night 6pm-8pm
URL:https://arubazerowaste.com/event/gis-mapping-ocean-science-micro-plastic-pollution-week-2/
LOCATION:Brenchie’s Lab\, Caya G. F. Betico Croes 59\, Oranjestad\, Aruba
END:VEVENT
BEGIN:VEVENT
DTSTART;TZID=UTC:20211023T090000
DTEND;TZID=UTC:20211023T223000
DTSTAMP:20260421T192034
CREATED:20210920T040137Z
LAST-MODIFIED:20210920T040137Z
UID:545-1634979600-1635028200@arubazerowaste.com
SUMMARY:Tree Nursery Volunteering
DESCRIPTION:Volunteers needed for repotting\, watering and moving plants in the nursery. \nIf you are interested\, please contact Anita on WhatsApp at 566-0636
URL:https://arubazerowaste.com/event/tree-nursery-volunteering/
END:VEVENT
BEGIN:VEVENT
DTSTART;TZID=UTC:20211023T070000
DTEND;TZID=UTC:20211023T090000
DTSTAMP:20260421T192034
CREATED:20211023T014509Z
LAST-MODIFIED:20211029T032941Z
UID:667-1634972400-1634979600@arubazerowaste.com
SUMMARY:Sample Collections- Ocean Science- Micro Plastic Pollution-Week 1
DESCRIPTION:Ocean Science- Micro Plastic Pollution Week 1 \nSaturday October 23rd\, 7am-9am \nSurf Side Beach bar \nCollecting sand samples for microplastic analysis.
URL:https://arubazerowaste.com/event/ocean-science-micro-plastic-pollution-week-1/
LOCATION:Surf Side Beach Bar\, Behind Linear Park next to the Airport\, Aruba
END:VEVENT
BEGIN:VEVENT
DTSTART;TZID=UTC:20211022T093000
DTEND;TZID=UTC:20211022T160000
DTSTAMP:20260421T192034
CREATED:20210920T033920Z
LAST-MODIFIED:20210920T033920Z
UID:520-1634895000-1634918400@arubazerowaste.com
SUMMARY:Recycling Plastic
DESCRIPTION:Plastic Beach Party needs volunteers to help sort\, cut and wash plastics every Friday. \n  \nSign-up on their website with the contact form at the bottom of the page. \n  \nhttps://www.plasticbeachparty.com/?fbclid=IwAR1LxPU3c3WfH7-T1c7hrB5xK7wFfAm0NWfwwgxW9nZJ7N6ncG1dNwi2Ey0
URL:https://arubazerowaste.com/event/recycling-plastic-4/
LOCATION:Flemingstraat 26\, Flemingstraat 26\, Aruba
END:VEVENT
BEGIN:VEVENT
DTSTART;TZID=UTC:20211021T183000
DTEND;TZID=UTC:20211021T200000
DTSTAMP:20260421T192034
CREATED:20211013T180306Z
LAST-MODIFIED:20211013T180306Z
UID:655-1634841000-1634846400@arubazerowaste.com
SUMMARY:M.A.G.E.C. Meeting
DESCRIPTION:M.A.G.E.C. Meeting open to Public \nOctober 21st at 6:30pm at University of Aruba. Room is TBA (To Be Announced) \nCheck in with M.A.G.E.C. Facebook or Instagram for more information.
URL:https://arubazerowaste.com/event/m-a-g-e-c-meeting-2/
LOCATION:University of Aruba\, J.E. Irausquinplein 4\, Aruba
END:VEVENT
BEGIN:VEVENT
DTSTART;TZID=UTC:20211020T180000
DTEND;TZID=UTC:20211020T200000
DTSTAMP:20260421T192034
CREATED:20211029T031750Z
LAST-MODIFIED:20211029T032017Z
UID:695-1634752800-1634760000@arubazerowaste.com
SUMMARY:GIS Mapping-Ocean Science- Micro Plastic Pollution Week 1
DESCRIPTION:  \n6pm-8pm October 20th \nAt Brenchie’s Lab \nWe’re measuring the coast using google earth engine (GIS) \, if you’re interested in geo-spatial analysis\, coding or beach erosion and feel like spending hours on a computer testing code from github\, join us Wednesday night 6pm-8pm
URL:https://arubazerowaste.com/event/gis-mapping-ocean-science-micro-plastic-pollution-week-1/
LOCATION:Brenchie’s Lab\, Caya G. F. Betico Croes 59\, Oranjestad\, Aruba
END:VEVENT
BEGIN:VEVENT
DTSTART;TZID=UTC:20211015T093000
DTEND;TZID=UTC:20211015T160000
DTSTAMP:20260421T192034
CREATED:20210920T033832Z
LAST-MODIFIED:20210920T033832Z
UID:518-1634290200-1634313600@arubazerowaste.com
SUMMARY:Recycling Plastic
DESCRIPTION:Plastic Beach Party needs volunteers to help sort\, cut and wash plastics every Friday. \n  \nSign-up on their website with the contact form at the bottom of the page. \n  \nhttps://www.plasticbeachparty.com/?fbclid=IwAR1LxPU3c3WfH7-T1c7hrB5xK7wFfAm0NWfwwgxW9nZJ7N6ncG1dNwi2Ey0
URL:https://arubazerowaste.com/event/recycling-plastic-3/
LOCATION:Flemingstraat 26\, Flemingstraat 26\, Aruba
END:VEVENT
BEGIN:VEVENT
DTSTART;TZID=UTC:20211009T090000
DTEND;TZID=UTC:20211009T223000
DTSTAMP:20260421T192034
CREATED:20210920T035552Z
LAST-MODIFIED:20210920T040051Z
UID:540-1633770000-1633818600@arubazerowaste.com
SUMMARY:Tree Nursery Volunteering
DESCRIPTION:Volunteers needed for repotting\, watering and moving plants in the nursery. \nIf you are interested\, please contact Anita on WhatsApp at 566-0636
URL:https://arubazerowaste.com/event/540/
END:VEVENT
BEGIN:VEVENT
DTSTART;TZID=UTC:20211008T093000
DTEND;TZID=UTC:20211008T160000
DTSTAMP:20260421T192034
CREATED:20210920T030701Z
LAST-MODIFIED:20210920T033750Z
UID:507-1633685400-1633708800@arubazerowaste.com
SUMMARY:Recycling Plastic
DESCRIPTION:Plastic Beach Party needs volunteers to help sort\, cut and wash plastics every Friday. \n  \nSign-up on their website with the contact form at the bottom of the page. \n  \nhttps://www.plasticbeachparty.com/?fbclid=IwAR1LxPU3c3WfH7-T1c7hrB5xK7wFfAm0NWfwwgxW9nZJ7N6ncG1dNwi2Ey0
URL:https://arubazerowaste.com/event/recycling-plastic-2/
LOCATION:Flemingstraat 26\, Flemingstraat 26\, Aruba
END:VEVENT
BEGIN:VEVENT
DTSTART;TZID=UTC:20211007T183000
DTEND;TZID=UTC:20211007T193000
DTSTAMP:20260421T192034
CREATED:20211006T151638Z
LAST-MODIFIED:20211006T151638Z
UID:640-1633631400-1633635000@arubazerowaste.com
SUMMARY:M.A.G.E.C. Meeting
DESCRIPTION:M.A.G.E.C. Meeting open to Public \nOctober 7th at 6:30pm in Room 4 at University of Aruba \nGuest speaker from Ban Lanta Y Planta organization
URL:https://arubazerowaste.com/event/m-a-g-e-c-meeting/
LOCATION:University of Aruba\, J.E. Irausquinplein 4\, Aruba
END:VEVENT
BEGIN:VEVENT
DTSTART;TZID=UTC:20211003T160000
DTEND;TZID=UTC:20211003T190000
DTSTAMP:20260421T192034
CREATED:20211001T154432Z
LAST-MODIFIED:20211001T201312Z
UID:630-1633276800-1633287600@arubazerowaste.com
SUMMARY:Protect Paradise- Beer for Plastic
DESCRIPTION:Bring your plastic to trade for a Corona beer. \nOctober 3rd\, from 4pm-7pm at Surfside Beach Bar.
URL:https://arubazerowaste.com/event/protect-paradise-beer-for-plastic/
LOCATION:Surf Side Beach Bar\, Behind Linear Park next to the Airport\, Aruba
END:VEVENT
BEGIN:VEVENT
DTSTART;TZID=UTC:20211003T100000
DTEND;TZID=UTC:20211003T140000
DTSTAMP:20260421T192034
CREATED:20210919T215258Z
LAST-MODIFIED:20210919T215258Z
UID:475-1633255200-1633269600@arubazerowaste.com
SUMMARY:Farmer's Market
DESCRIPTION:Local and sustainable artisans and farmers selling delicious snacks\, juices\, oils\, soaps\, cosmetics\, candles\, herb mixes and art works.
URL:https://arubazerowaste.com/event/farmers-market/
END:VEVENT
BEGIN:VEVENT
DTSTART;TZID=UTC:20211003T080000
DTEND;TZID=UTC:20211003T100000
DTSTAMP:20260421T192034
CREATED:20210926T235513Z
LAST-MODIFIED:20210926T235513Z
UID:598-1633248000-1633255200@arubazerowaste.com
SUMMARY:Beach Clean Up-ScubbleBubbles
DESCRIPTION:Volunteers needed for beach clean-up \nIf you are interested\, just show up to the location. (Location will be decided 5 days prior to clean up) \nBring gloves\, water\, hat\, snack\, and reef safe sunscreen. \nCheck back for location on ScubbleBubbles Facebook\, Instagram\, or back on event map \nhttps://www.facebook.com/ScubbleBubbles
URL:https://arubazerowaste.com/event/beach-clean-up-scubblebubbles-4/
END:VEVENT
BEGIN:VEVENT
DTSTART;TZID=UTC:20211001T093000
DTEND;TZID=UTC:20211001T160000
DTSTAMP:20260421T192034
CREATED:20210920T030613Z
LAST-MODIFIED:20210920T030613Z
UID:505-1633080600-1633104000@arubazerowaste.com
SUMMARY:Recycling Plastic
DESCRIPTION:Plastic Beach Party needs volunteers to help sort\, cut and wash plastics every Friday. \n  \nSign-up on their website with the contact form at the bottom of the page. \n  \nhttps://www.plasticbeachparty.com/?fbclid=IwAR1LxPU3c3WfH7-T1c7hrB5xK7wFfAm0NWfwwgxW9nZJ7N6ncG1dNwi2Ey0
URL:https://arubazerowaste.com/event/recycling-plastic/
LOCATION:Flemingstraat 26\, Flemingstraat 26\, Aruba
END:VEVENT
BEGIN:VEVENT
DTSTART;TZID=UTC:20210930T160000
DTEND;TZID=UTC:20210930T190000
DTSTAMP:20260421T192034
CREATED:20210928T234616Z
LAST-MODIFIED:20210928T234719Z
UID:617-1633017600-1633028400@arubazerowaste.com
SUMMARY:Marshe Rancho
DESCRIPTION:Benta di mata\, buki y paña second hand\, productonan local\, arte/ pintura\, ofishi local\, snacks crioyo\, musica y mas!\nhttps://www.facebook.com/events/4321687447913914/?acontext=%7B”event_action_history”%3A[%7B”mechanism”%3A”search_results”%2C”surface”%3A”search”%7D]%2C”ref_notif_type”%3Anull%7D
URL:https://arubazerowaste.com/event/617/
LOCATION:Rancho Plaza- Visstraat\, Rancho Plaza- Visstraat\, Aruba
END:VEVENT
BEGIN:VEVENT
DTSTART;VALUE=DATE:20210926
DTEND;VALUE=DATE:20210927
DTSTAMP:20260421T192034
CREATED:20210919T221547Z
LAST-MODIFIED:20210920T014516Z
UID:486-1632614400-1632700799@arubazerowaste.com
SUMMARY:Tree Planting
DESCRIPTION:Planting trees at Marinierskazerne \nNo more volunteers needed for this event. But if you are interested in other tree planting events\, please contact Anita on WhatsApp at 566-0636
URL:https://arubazerowaste.com/event/tree-planting-3/
END:VEVENT
BEGIN:VEVENT
DTSTART;VALUE=DATE:20210925
DTEND;VALUE=DATE:20210926
DTSTAMP:20260421T192034
CREATED:20210919T215243Z
LAST-MODIFIED:20210920T042247Z
UID:472-1632528000-1632614399@arubazerowaste.com
SUMMARY:Tree Planting
DESCRIPTION:5 trees being planted at Parke Nacional Arikok \nNo more volunteers needed for this event. But if you are interested in other tree planting events\, please contact Anita on WhatsApp at 566-0636
URL:https://arubazerowaste.com/event/tree-planting-2/
END:VEVENT
BEGIN:VEVENT
DTSTART;TZID=UTC:20210924T160000
DTEND;TZID=UTC:20210924T180000
DTSTAMP:20260421T192034
CREATED:20210919T214615Z
LAST-MODIFIED:20210920T033435Z
UID:450-1632499200-1632506400@arubazerowaste.com
SUMMARY:Shoe Strike- Climate Action Aruba
DESCRIPTION:4 Corona-safe ways to participate:\n1. Start with signing and sharing the petition https://www.change.org/p/ita-aerts-\nhotmail-com-urge-the-government-of-aruba-to-take-action-on-the-climate-crisis \n \n2. Drive-by and leave a pair of shoes on the lawn in front of parliament depicting your\npresence. Attach a little note or banner. 2 days before there will also be a drop-off\nbin at the University of Aruba to deposit your shoes for us to put them at the site. \n \n3. Take a picture of your personal Climate Action at home\, at your school or with your\ncolleagues and post it on-line with #ClimateActionAruba3.0 \n \n4. Join us in front of parliament. Carry a banner or sign with your reason(s) to join. State\nthe name and colors of your organization you represent. Make sure to keep a safe\ndistance and wear a mask when necessary.
URL:https://arubazerowaste.com/event/shoe-strike-climate-action-aruba/
LOCATION:Parliament\, Aruba
END:VEVENT
BEGIN:VEVENT
DTSTART;TZID=UTC:20210924T093000
DTEND;TZID=UTC:20210924T160000
DTSTAMP:20260421T192034
CREATED:20210920T025423Z
LAST-MODIFIED:20210920T030737Z
UID:503-1632475800-1632499200@arubazerowaste.com
SUMMARY:Recycling Plastics
DESCRIPTION:Plastic Beach Party needs volunteers to help sort\, cut and wash plastics every Friday. \n  \nSign-up on their website with the contact form at the bottom of the page. \n  \nhttps://www.plasticbeachparty.com/?fbclid=IwAR1LxPU3c3WfH7-T1c7hrB5xK7wFfAm0NWfwwgxW9nZJ7N6ncG1dNwi2Ey0
URL:https://arubazerowaste.com/event/recycling-plastics-2/
LOCATION:Flemingstraat 26\, Flemingstraat 26\, Aruba
END:VEVENT
BEGIN:VEVENT
DTSTART;VALUE=DATE:20210921
DTEND;VALUE=DATE:20210922
DTSTAMP:20260421T192034
CREATED:20210920T014218Z
LAST-MODIFIED:20210920T014218Z
UID:491-1632182400-1632268799@arubazerowaste.com
SUMMARY:Tree Planting
DESCRIPTION:Planting 5 trees at Stichting Eliezer \nNo more volunteers needed for this event. But if you are interested in other tree planting events\, please contact Anita on WhatsApp at 566-0636
URL:https://arubazerowaste.com/event/tree-planting-4/
END:VEVENT
BEGIN:VEVENT
DTSTART;VALUE=DATE:20210920
DTEND;VALUE=DATE:20210921
DTSTAMP:20260421T192034
CREATED:20210919T214556Z
LAST-MODIFIED:20210920T042342Z
UID:464-1632096000-1632182399@arubazerowaste.com
SUMMARY:Tree Planting
DESCRIPTION:  \nPlanting two Seida trees in front of Aruba University \n \nNo more volunteers needed for this event. But if you are interested in other tree planting events\, please contact Anita on WhatsApp at 566-0636
URL:https://arubazerowaste.com/event/tree-planting/
END:VEVENT
BEGIN:VEVENT
DTSTART;TZID=UTC:20210918T080000
DTEND;TZID=UTC:20210918T100000
DTSTAMP:20260421T192034
CREATED:20210920T042202Z
LAST-MODIFIED:20210920T042202Z
UID:566-1631952000-1631959200@arubazerowaste.com
SUMMARY:Beach Clean Up- ScubbleBubbles
DESCRIPTION:Volunteers needed for beach clean-up \nIf you are interested\, just show up to the area indicated with the red dot on the map. \nBring gloves\, water\, hat\, snack\, and reef safe sunscreen.
URL:https://arubazerowaste.com/event/beach-clean-up-scubblebubbles-3/
END:VEVENT
BEGIN:VEVENT
DTSTART;TZID=UTC:20210917T093000
DTEND;TZID=UTC:20210917T160000
DTSTAMP:20260421T192034
CREATED:20210920T024830Z
LAST-MODIFIED:20210920T024830Z
UID:497-1631871000-1631894400@arubazerowaste.com
SUMMARY:Recycling Plastics
DESCRIPTION:Plastic Beach Party needs volunteers to help sort\, cut and wash plastics every Friday. \nSign-up on their website with the contact form at the bottom of the page. \nhttps://www.plasticbeachparty.com/?fbclid=IwAR1LxPU3c3WfH7-T1c7hrB5xK7wFfAm0NWfwwgxW9nZJ7N6ncG1dNwi2Ey0
URL:https://arubazerowaste.com/event/recycling-plastics/
LOCATION:Flemingstraat 26\, Flemingstraat 26\, Aruba
END:VEVENT
END:VCALENDAR