BEGIN:VCALENDAR
VERSION:2.0
PRODID:-//Zero Waste Aruba - ECPv5.9.1//NONSGML v1.0//EN
CALSCALE:GREGORIAN
METHOD:PUBLISH
X-WR-CALNAME:Zero Waste Aruba
X-ORIGINAL-URL:https://arubazerowaste.com
X-WR-CALDESC:Events for Zero Waste Aruba
BEGIN:VTIMEZONE
TZID:UTC
BEGIN:STANDARD
TZOFFSETFROM:+0000
TZOFFSETTO:+0000
TZNAME:UTC
DTSTART:20220101T000000
END:STANDARD
END:VTIMEZONE
BEGIN:VEVENT
DTSTART;TZID=UTC:20220415T100000
DTEND;TZID=UTC:20220415T163000
DTSTAMP:20260421T073522
CREATED:20220317T214700Z
LAST-MODIFIED:20220317T214700Z
UID:1013-1650016800-1650040200@arubazerowaste.com
SUMMARY:Recycle Plastic
DESCRIPTION:Plastic Beach Party needs volunteers to help sort\, cut and wash plastics every Friday. \n  \nSign-up on their website with the contact form at the bottom of the page.
URL:https://arubazerowaste.com/event/recycle-plastic-17/
LOCATION:Flemingstraat 26\, Flemingstraat 26\, Aruba
END:VEVENT
BEGIN:VEVENT
DTSTART;TZID=UTC:20220410T113000
DTEND;TZID=UTC:20220410T133000
DTSTAMP:20260421T073522
CREATED:20220401T190736Z
LAST-MODIFIED:20220401T190822Z
UID:1068-1649590200-1649597400@arubazerowaste.com
SUMMARY:Mercado di cunucu
DESCRIPTION:Farmer’s Market with local produce. \nThe event will take place on the 10th from 11:30 till 13:30 at Paradera 157 B ( Koolman Family Farm) \nIf you want a table to sale fruits or vegetables you have grown yourself\, Sign up with Rose at 297-563-8265 \nThere will also be a community harvest table for people who only have a little fruits and vegetables to sell. Sign up with Laura or Dae at 297-567-0670
URL:https://arubazerowaste.com/event/mercado-di-cunucu-2/
ATTACH;FMTTYPE=image/jpeg:https://arubazerowaste.com/wp-content/uploads/2022/03/WhatsApp-Image-2022-03-13-at-7.24.34-AM.jpeg
END:VEVENT
BEGIN:VEVENT
DTSTART;TZID=UTC:20220408T140000
DTEND;TZID=UTC:20220408T173000
DTSTAMP:20260421T073522
CREATED:20220401T185134Z
LAST-MODIFIED:20220401T185214Z
UID:1060-1649426400-1649439000@arubazerowaste.com
SUMMARY:UAUCU Symposium
DESCRIPTION:University students are going to present their research to the public on April 8th at 2pm-5:15pm \nJoin at the UA Auditorium or on Zoom. Sign up is in the link below. \nInvitation symposium UAUCU 2022 student research exchange program
URL:https://arubazerowaste.com/event/uaucu-symposium/
LOCATION:University of Aruba\, J.E. Irausquinplein 4\, Aruba
ATTACH;FMTTYPE=image/png:https://arubazerowaste.com/wp-content/uploads/2022/04/US-symposium-4-8.png
END:VEVENT
BEGIN:VEVENT
DTSTART;TZID=UTC:20220408T100000
DTEND;TZID=UTC:20220408T163000
DTSTAMP:20260421T073522
CREATED:20220317T214617Z
LAST-MODIFIED:20220317T214617Z
UID:1011-1649412000-1649435400@arubazerowaste.com
SUMMARY:Recycle Plastic
DESCRIPTION:Plastic Beach Party needs volunteers to help sort\, cut and wash plastics every Friday. \n  \nSign-up on their website with the contact form at the bottom of the page.
URL:https://arubazerowaste.com/event/recycle-plastic-16/
LOCATION:Flemingstraat 26\, Flemingstraat 26\, Aruba
END:VEVENT
BEGIN:VEVENT
DTSTART;TZID=UTC:20220406T173000
DTEND;TZID=UTC:20220406T190000
DTSTAMP:20260421T073522
CREATED:20220325T163557Z
LAST-MODIFIED:20220325T164010Z
UID:1045-1649266200-1649271600@arubazerowaste.com
SUMMARY:Symposium of the Earth and Environment Class
DESCRIPTION:Wednesday April 6th\, 5:30-7pm at Parke Nacional Arikok- Visitor Center \nCome to the symposium to learn about the findings of the research done by students in the Introduction to Earth and Environment class at University of Aruba.\nThey’ll be going over research for Marine pollution\, Mangrove forest\, and Semi-Arid ecosystems.
URL:https://arubazerowaste.com/event/symposium-of-the-earth-and-environment-class/
LOCATION:Arikok National Park\, San Fuego 70\, Santa Cruz\, Aruba
ATTACH;FMTTYPE=image/jpeg:https://arubazerowaste.com/wp-content/uploads/2022/03/WhatsApp-Image-2022-03-25-at-12.22.51-PM-1-e1648226244476.jpeg
ORGANIZER;CN="University%20of%20Aruba":MAILTO:osa@ua.aw
END:VEVENT
BEGIN:VEVENT
DTSTART;TZID=UTC:20220403T100000
DTEND;TZID=UTC:20220403T140000
DTSTAMP:20260421T073522
CREATED:20220313T112142Z
LAST-MODIFIED:20220401T185324Z
UID:999-1648980000-1648994400@arubazerowaste.com
SUMMARY:Farmer's Market
DESCRIPTION:Local and sustainable artisans and farmers selling delicious snacks\, juices\, oils\, soaps\, cosmetics\, candles\, herb mixes and art works.
URL:https://arubazerowaste.com/event/farmers-market-6/
LOCATION:Ostrich Farm\, Matividiri 57\, Aruba
ATTACH;FMTTYPE=image/jpeg:https://arubazerowaste.com/wp-content/uploads/2021/09/240743583_4479542938763155_1832003768640043819_n.jpg
END:VEVENT
BEGIN:VEVENT
DTSTART;TZID=UTC:20220401T100000
DTEND;TZID=UTC:20220401T163000
DTSTAMP:20260421T073522
CREATED:20220307T202142Z
LAST-MODIFIED:20220307T202142Z
UID:995-1648807200-1648830600@arubazerowaste.com
SUMMARY:Recycle Plastic
DESCRIPTION:Plastic Beach Party needs volunteers to help sort\, cut and wash plastics every Friday. \n  \nSign-up on their website with the contact form at the bottom of the page.
URL:https://arubazerowaste.com/event/recycle-plastic-15/
LOCATION:Flemingstraat 26\, Flemingstraat 26\, Aruba
END:VEVENT
BEGIN:VEVENT
DTSTART;TZID=UTC:20220328T173000
DTEND;TZID=UTC:20220328T193000
DTSTAMP:20260421T073522
CREATED:20220322T180601Z
LAST-MODIFIED:20220322T180900Z
UID:1028-1648488600-1648495800@arubazerowaste.com
SUMMARY:Environmental/ Nature get together
DESCRIPTION:Environmental/ Nature get together 5:30-7:30pm on March 28th at the Coffee Spot in Ponton. Meet some of the faces behind Aruba’s different environmental Organizations. And see  If you’re part of a NGO\, feel free to wear your organization’s logo to represent. If you have any questions\, contact Dae on WhatsApp at 297-567-0670
URL:https://arubazerowaste.com/event/environmental-nature-get-together/
LOCATION:Coffee Spot\, Katuna straat #3\, Oranjestad\, Ponton\, Aruba
ORGANIZER;CN="Dae":MAILTO:MaeDae28@gmail.com
END:VEVENT
BEGIN:VEVENT
DTSTART;TZID=UTC:20220326T203000
DTEND;TZID=UTC:20220326T213000
DTSTAMP:20260421T073522
CREATED:20220322T181717Z
LAST-MODIFIED:20220322T181717Z
UID:1033-1648326600-1648330200@arubazerowaste.com
SUMMARY:Earth Hour 8:30pm
DESCRIPTION:Get ready March 26th 8:30 pm local time to turn off your lights for one hour.  Thank you Elthon Lampe for the reminder on this video. \n\nhttps://arubazerowaste.com/wp-content/uploads/2022/03/WhatsApp-Video-2022-03-17-at-11.29.35-AM.mp4\nHistory of the Hour\nStarted in 2007 by WWF and partners as a symbolic lights-out event in Sydney to raise awareness of climate change\, Earth Hour is now one of the world’s largest grassroots movements for the environment. Held every year on the last Saturday of March\, Earth Hour engages supporters in more than 190 countries and territories\, all taking action to ensure a brighter future for people and the planet. \nEarth Hour has also gone far beyond the symbolic action of switching off – it has become a catalyst for positive environmental impact\, driving major legislative changes by harnessing the power of the people and collective action. \nEarth Hour is open-source and we welcome everyone\, anyone\, to take part and help amplify our mission and impact. \nhttps://www.earthhour.org
URL:https://arubazerowaste.com/event/earth-hour-830pm/
END:VEVENT
BEGIN:VEVENT
DTSTART;TZID=UTC:20220325T100000
DTEND;TZID=UTC:20220325T163000
DTSTAMP:20260421T073522
CREATED:20220307T202025Z
LAST-MODIFIED:20220307T202025Z
UID:993-1648202400-1648225800@arubazerowaste.com
SUMMARY:Recycle Plastic
DESCRIPTION:Plastic Beach Party needs volunteers to help sort\, cut and wash plastics every Friday. \n  \nSign-up on their website with the contact form at the bottom of the page.
URL:https://arubazerowaste.com/event/recycle-plastic-14/
LOCATION:Flemingstraat 26\, Flemingstraat 26\, Aruba
END:VEVENT
BEGIN:VEVENT
DTSTART;TZID=UTC:20220323T070000
DTEND;TZID=UTC:20220323T210000
DTSTAMP:20260421T073522
CREATED:20220317T222701Z
LAST-MODIFIED:20220318T181806Z
UID:1021-1648018800-1648069200@arubazerowaste.com
SUMMARY:Tree Watering
DESCRIPTION:Ban Lanta y Planta needs volunteers to help water plants\, clean out grow boxes\, and check overall health of the trees at Marinierskazerne.\nIf you’re interested in joining or have any questions\, send a message to Dae on Whatsapp at +297-567-0670
URL:https://arubazerowaste.com/event/tree-watering/
LOCATION:Marinierskazerne\, 532 AW Savaneta\, Savaneta\, Aruba
END:VEVENT
BEGIN:VEVENT
DTSTART;TZID=UTC:20220320T050000
DTEND;TZID=UTC:20220320T220000
DTSTAMP:20260421T073522
CREATED:20220131T115756Z
LAST-MODIFIED:20220131T115756Z
UID:863-1647752400-1647813600@arubazerowaste.com
SUMMARY:One Healthy Day
DESCRIPTION:Be there on Sunday\, March 20th\, 2022 from 05:00 AM to 10:00 PM \nOne Healthy Day is an empowering one-day festival promoting health in Aruba where everyone is included. With sports & activities happening across the whole island. All activities and workshops are free of charge. Promoting a healthy lifestyle by assisting foundations to serve healthy food as part of education. Initiating workshops and activities like hiking\, yoga\, dancing\, teamsports\, bootcamps and more. A day where Restaurants curate healthy menus. Where families can explore and practice mindfulness\, and where professionals give talks and workshops on health. \nLastly\, One Healthy Day wouldn’t be a festival without live music & entertainment.
URL:https://arubazerowaste.com/event/one-healthy-day/
LOCATION:One Happy Bowl\, Renaissance Marketplace\, L.G. Smith Boulevard 9\, Oranjestad\, Aruba
END:VEVENT
BEGIN:VEVENT
DTSTART;TZID=UTC:20220318T113000
DTEND;TZID=UTC:20220318T133000
DTSTAMP:20260421T073522
CREATED:20220313T113029Z
LAST-MODIFIED:20220315T015522Z
UID:1001-1647603000-1647610200@arubazerowaste.com
SUMMARY:Mercado di cunucu
DESCRIPTION:Farmer’s Market with local produce.\nThe event will take place on the 18th from 11:30 till 13:30 at Paradera 157 B ( Koolman Family Farm)
URL:https://arubazerowaste.com/event/mercado-di-cunucu/
END:VEVENT
BEGIN:VEVENT
DTSTART;TZID=UTC:20220318T100000
DTEND;TZID=UTC:20220318T163000
DTSTAMP:20260421T073522
CREATED:20220307T201728Z
LAST-MODIFIED:20220307T201728Z
UID:991-1647597600-1647621000@arubazerowaste.com
SUMMARY:Recycle Plastic
DESCRIPTION:Plastic Beach Party needs volunteers to help sort\, cut and wash plastics every Friday. \n  \nSign-up on their website with the contact form at the bottom of the page.
URL:https://arubazerowaste.com/event/recycle-plastic-13/
LOCATION:Flemingstraat 26\, Flemingstraat 26\, Aruba
END:VEVENT
BEGIN:VEVENT
DTSTART;TZID=UTC:20220311T100000
DTEND;TZID=UTC:20220311T160000
DTSTAMP:20260421T073522
CREATED:20220224T144722Z
LAST-MODIFIED:20220224T144722Z
UID:988-1646992800-1647014400@arubazerowaste.com
SUMMARY:Recycle Plastic
DESCRIPTION:Plastic Beach Party needs volunteers to help sort\, cut and wash plastics every Friday. \n  \nSign-up on their website with the contact form at the bottom of the page.
URL:https://arubazerowaste.com/event/recycle-plastic-12/
LOCATION:Flemingstraat 26\, Flemingstraat 26\, Aruba
END:VEVENT
BEGIN:VEVENT
DTSTART;VALUE=DATE:20220311
DTEND;VALUE=DATE:20220313
DTSTAMP:20260421T073522
CREATED:20220131T115216Z
LAST-MODIFIED:20220131T115216Z
UID:860-1646956800-1647129599@arubazerowaste.com
SUMMARY:Aruba Doet
DESCRIPTION:Island wide volunteer event where you can sign up to help with over 190 different projects around the island. Each project is to help a school\, organization or business. \nSign up on website with the project you want to help with. \nhttps://www.arubadoet.com/en \nwww.facebook.com/ARUBADOET
URL:https://arubazerowaste.com/event/aruba-doet/
ORGANIZER;CN="Aruba%20Doet":MAILTO:info.arubadoet@gmail.com
END:VEVENT
BEGIN:VEVENT
DTSTART;TZID=UTC:20220306T100000
DTEND;TZID=UTC:20220306T140000
DTSTAMP:20260421T073522
CREATED:20220131T114512Z
LAST-MODIFIED:20220202T222250Z
UID:856-1646560800-1646575200@arubazerowaste.com
SUMMARY:Farmer's Market
DESCRIPTION:Local and sustainable artisans and farmers selling delicious snacks\, juices\, oils\, soaps\, cosmetics\, candles\, herb mixes and art works.
URL:https://arubazerowaste.com/event/farmers-market-5/
LOCATION:Ostrich Farm\, Matividiri 57\, Aruba
END:VEVENT
BEGIN:VEVENT
DTSTART;TZID=UTC:20220304T100000
DTEND;TZID=UTC:20220304T160000
DTSTAMP:20260421T073522
CREATED:20211230T141738Z
LAST-MODIFIED:20211230T141738Z
UID:819-1646388000-1646409600@arubazerowaste.com
SUMMARY:Recycle Plastic
DESCRIPTION:Plastic Beach Party needs volunteers to help sort\, cut and wash plastics every Friday. \n  \nSign-up on their website with the contact form at the bottom of the page. \n  \nHome
URL:https://arubazerowaste.com/event/recycle-plastic-11/
LOCATION:Flemingstraat 26\, Flemingstraat 26\, Aruba
END:VEVENT
BEGIN:VEVENT
DTSTART;TZID=UTC:20220227T080000
DTEND;TZID=UTC:20220227T100000
DTSTAMP:20260421T073522
CREATED:20220222T110606Z
LAST-MODIFIED:20220224T144516Z
UID:979-1645948800-1645956000@arubazerowaste.com
SUMMARY:Beach Clean Up- ScubbleBubbles
DESCRIPTION:Volunteers needed for beach clean-up \nIf you are interested\, just show up to Rincon Beach at 8 am on February 27th\, 2022. \nBring gloves\, water\, hat\, snack\, and reef safe sunscreen. \nhttps://www.facebook.com/ScubbleBubbles
URL:https://arubazerowaste.com/event/beach-clean-up-scubblebubbles-8/
END:VEVENT
BEGIN:VEVENT
DTSTART;TZID=UTC:20220225T100000
DTEND;TZID=UTC:20220225T160000
DTSTAMP:20260421T073522
CREATED:20211230T141621Z
LAST-MODIFIED:20211230T141621Z
UID:817-1645783200-1645804800@arubazerowaste.com
SUMMARY:Recycle Plastic
DESCRIPTION:Plastic Beach Party needs volunteers to help sort\, cut and wash plastics every Friday. \n  \nSign-up on their website with the contact form at the bottom of the page. \n  \nHome
URL:https://arubazerowaste.com/event/recycle-plastic-10/
LOCATION:Flemingstraat 26\, Flemingstraat 26\, Aruba
END:VEVENT
BEGIN:VEVENT
DTSTART;TZID=UTC:20220224T160000
DTEND;TZID=UTC:20220224T190000
DTSTAMP:20260421T073522
CREATED:20220224T144108Z
LAST-MODIFIED:20220224T144254Z
UID:982-1645718400-1645729200@arubazerowaste.com
SUMMARY:Marshe Rancho
DESCRIPTION:Marshe Rancho (local market) y Puro Palo Percussion live den aire liber. Awe tardi na Rancho Plaza. Visstraat 1\, Oranjestad Aruba.\n\n\nEncounter the living heritage of the Rancho neighborhood\, Rancho Walking tour starts 5PM. Puro Palo Percussion Jam\, live music today at Rancho Plaza 6.15PM.
URL:https://arubazerowaste.com/event/marshe-rancho/
END:VEVENT
BEGIN:VEVENT
DTSTART;TZID=UTC:20220223T173000
DTEND;TZID=UTC:20220223T193000
DTSTAMP:20260421T073522
CREATED:20220221T130211Z
LAST-MODIFIED:20220221T130220Z
UID:974-1645637400-1645644600@arubazerowaste.com
SUMMARY:Renewable Energy in Aruba Brainstorming Session
DESCRIPTION:5:30 PM on February 23rd\, 2022 \nJoin us for brainstorming sustainable solutions for Aruba and helping to implement them. \nSign up with Dae on WhatsApp +297-567-0670
URL:https://arubazerowaste.com/event/renewable-energy-in-aruba-brainstorming-session/
END:VEVENT
BEGIN:VEVENT
DTSTART;VALUE=DATE:20220222
DTEND;VALUE=DATE:20220223
DTSTAMP:20260421T073522
CREATED:20220209T100409Z
LAST-MODIFIED:20220222T222320Z
UID:903-1645488000-1645574399@arubazerowaste.com
SUMMARY:Waste Stream Forum Going Online
DESCRIPTION:Online Waste Stream Forum for Aruba- Give the chance for local businesses to take over a waste stream that would usually end up in the landfill. (eg plastic\, metal\, glass). Serlimar can still collect\, but the processing would be done by other private organizations. More details to come. \nhttps://trashtocasharuba.org/?fbclid=IwAR2Lok6wRK9L3XUpQZubPyOtvKDDXTa3VSkluGsM1NH2V324v5lKd_v2GnA#Pitch \n**Trash2Cash Facebook and website are live
URL:https://arubazerowaste.com/event/waste-stream-conference-online/
END:VEVENT
BEGIN:VEVENT
DTSTART;TZID=UTC:20220218T100000
DTEND;TZID=UTC:20220218T160000
DTSTAMP:20260421T073522
CREATED:20211230T141237Z
LAST-MODIFIED:20211230T141237Z
UID:813-1645178400-1645200000@arubazerowaste.com
SUMMARY:Recycle Plastic
DESCRIPTION:Plastic Beach Party needs volunteers to help sort\, cut and wash plastics every Friday. \n  \nSign-up on their website with the contact form at the bottom of the page. \n  \nHome
URL:https://arubazerowaste.com/event/recycle-plastic-9/
LOCATION:Flemingstraat 26\, Flemingstraat 26\, Aruba
END:VEVENT
BEGIN:VEVENT
DTSTART;TZID=UTC:20220211T100000
DTEND;TZID=UTC:20220211T160000
DTSTAMP:20260421T073522
CREATED:20211230T140925Z
LAST-MODIFIED:20211230T141123Z
UID:810-1644573600-1644595200@arubazerowaste.com
SUMMARY:Recycle Plastic
DESCRIPTION:Plastic Beach Party needs volunteers to help sort\, cut and wash plastics every Friday. \n  \nSign-up on their website with the contact form at the bottom of the page. \n  \nHome
URL:https://arubazerowaste.com/event/recycle-plastic-8/
LOCATION:Flemingstraat 26\, Flemingstraat 26\, Aruba
END:VEVENT
BEGIN:VEVENT
DTSTART;TZID=UTC:20220206T100000
DTEND;TZID=UTC:20220206T140000
DTSTAMP:20260421T073522
CREATED:20211230T141448Z
LAST-MODIFIED:20220202T222312Z
UID:815-1644141600-1644156000@arubazerowaste.com
SUMMARY:Farmer's Market
DESCRIPTION:Local and sustainable artisans and farmers selling delicious snacks\, juices\, oils\, soaps\, cosmetics\, candles\, herb mixes and art works.
URL:https://arubazerowaste.com/event/farmers-market-4/
LOCATION:Ostrich Farm\, Matividiri 57\, Aruba
END:VEVENT
BEGIN:VEVENT
DTSTART;TZID=UTC:20220205T090000
DTEND;TZID=UTC:20220205T110000
DTSTAMP:20260421T073522
CREATED:20220202T132153Z
LAST-MODIFIED:20220202T132806Z
UID:871-1644051600-1644058800@arubazerowaste.com
SUMMARY:Tree Nursery Volunteering
DESCRIPTION:Volunteers needed for repotting\, watering and moving plants in the nursery. \nIf you are interested\, please contact Anita on WhatsApp at 566-0636 to find out which nursery they will be working at.
URL:https://arubazerowaste.com/event/tree-nursery-volunteering-8/
END:VEVENT
BEGIN:VEVENT
DTSTART;TZID=UTC:20220204T100000
DTEND;TZID=UTC:20220204T160000
DTSTAMP:20260421T073522
CREATED:20211230T140722Z
LAST-MODIFIED:20211230T140722Z
UID:808-1643968800-1643990400@arubazerowaste.com
SUMMARY:Recycle Plastic
DESCRIPTION:Plastic Beach Party needs volunteers to help sort\, cut and wash plastics every Friday. \n  \nSign-up on their website with the contact form at the bottom of the page. \n  \nHome
URL:https://arubazerowaste.com/event/recycle-plastic-7/
LOCATION:Flemingstraat 26\, Flemingstraat 26\, Aruba
END:VEVENT
BEGIN:VEVENT
DTSTART;TZID=UTC:20220128T100000
DTEND;TZID=UTC:20220128T160000
DTSTAMP:20260421T073522
CREATED:20211230T140636Z
LAST-MODIFIED:20211230T140636Z
UID:806-1643364000-1643385600@arubazerowaste.com
SUMMARY:Recycle Plastic
DESCRIPTION:Plastic Beach Party needs volunteers to help sort\, cut and wash plastics every Friday. \n  \nSign-up on their website with the contact form at the bottom of the page. \n  \nHome
URL:https://arubazerowaste.com/event/recycle-plastic-6/
LOCATION:Flemingstraat 26\, Flemingstraat 26\, Aruba
END:VEVENT
BEGIN:VEVENT
DTSTART;TZID=UTC:20220123T080000
DTEND;TZID=UTC:20220123T100000
DTSTAMP:20260421T073522
CREATED:20220119T234703Z
LAST-MODIFIED:20220119T234703Z
UID:837-1642924800-1642932000@arubazerowaste.com
SUMMARY:Beach Clean Up- ScubbleBubbles
DESCRIPTION:Volunteers needed for beach clean-up \nIf you are interested\, just show up to Rincon Beach at 8 am on January 23rd\, 2022. \nBring gloves\, water\, hat\, snack\, and reef safe sunscreen. \nhttps://www.facebook.com/ScubbleBubbles
URL:https://arubazerowaste.com/event/beach-clean-up-scubblebubbles-7/
END:VEVENT
END:VCALENDAR