BEGIN:VCALENDAR
VERSION:2.0
PRODID:-//Zero Waste Aruba - ECPv5.9.1//NONSGML v1.0//EN
CALSCALE:GREGORIAN
METHOD:PUBLISH
X-WR-CALNAME:Zero Waste Aruba
X-ORIGINAL-URL:https://arubazerowaste.com
X-WR-CALDESC:Events for Zero Waste Aruba
BEGIN:VTIMEZONE
TZID:UTC
BEGIN:STANDARD
TZOFFSETFROM:+0000
TZOFFSETTO:+0000
TZNAME:UTC
DTSTART:20210101T000000
END:STANDARD
END:VTIMEZONE
BEGIN:VEVENT
DTSTART;TZID=UTC:20211217T170000
DTEND;TZID=UTC:20211217T190000
DTSTAMP:20260421T164421
CREATED:20211209T184916Z
LAST-MODIFIED:20211209T190955Z
UID:780-1639760400-1639767600@arubazerowaste.com
SUMMARY:Local Christmas Fair- Hardgrooves
DESCRIPTION:HO HO HO… Come join us at the Christmas Fair. All local artists and creators offering you the best Christmas Gifts of this season.\nFrom natural products like soap or raw honey\, to paintings and handmade jewelry or beautiful bags and goodies. Also different gifts for children available.\nMeanwhile ‘Hardgrooves Jazz Café’ will provide the best Christmas ambiance and serve some good drinks. Follow this event for more info about artisans and more other detailed information while the date gets closer.\nLocation: Blauwe Steeg (next to Hardgroove cafe/ Flor di Oriente in town)\nFriday December 17\nTime: 5 PM til 7 PM\nhttps://www.facebook.com/events/277028591046252/?sfnsn=mo
URL:https://arubazerowaste.com/event/local-christmas-fair-hardgrooves/
LOCATION:Hardgrooves jazz café\, Blauwesteeg 11\, Oranjestad\, Aruba
END:VEVENT
BEGIN:VEVENT
DTSTART;TZID=UTC:20211217T093000
DTEND;TZID=UTC:20211217T163000
DTSTAMP:20260421T164421
CREATED:20211209T165826Z
LAST-MODIFIED:20211209T165853Z
UID:771-1639733400-1639758600@arubazerowaste.com
SUMMARY:Recycle Plastic
DESCRIPTION:Plastic Beach Party needs volunteers to help sort\, cut and wash plastics every Friday. \n  \nSign-up on their website with the contact form at the bottom of the page. \n  \nHome
URL:https://arubazerowaste.com/event/recycle-plastic-2/
LOCATION:Flemingstraat 26\, Flemingstraat 26\, Aruba
END:VEVENT
BEGIN:VEVENT
DTSTART;TZID=UTC:20211210T093000
DTEND;TZID=UTC:20211210T160000
DTSTAMP:20260421T164421
CREATED:20211209T165610Z
LAST-MODIFIED:20211209T165610Z
UID:769-1639128600-1639152000@arubazerowaste.com
SUMMARY:Recycle Plastic
DESCRIPTION:Plastic Beach Party needs volunteers to help sort\, cut and wash plastics every Friday. \n  \nSign-up on their website with the contact form at the bottom of the page. \n  \nHome
URL:https://arubazerowaste.com/event/recycle-plastic/
LOCATION:Flemingstraat 26\, Flemingstraat 26\, Aruba
END:VEVENT
BEGIN:VEVENT
DTSTART;TZID=UTC:20211205T100000
DTEND;TZID=UTC:20211205T140000
DTSTAMP:20260421T164421
CREATED:20210920T035212Z
LAST-MODIFIED:20210920T035212Z
UID:538-1638698400-1638712800@arubazerowaste.com
SUMMARY:Farmer's Market
DESCRIPTION:Local and sustainable artisans and farmers selling delicious snacks\, juices\, oils\, soaps\, cosmetics\, candles\, herb mixes and art works.
URL:https://arubazerowaste.com/event/farmers-market-3/
LOCATION:Ostrich Farm\, Matividiri 57\, Aruba
END:VEVENT
BEGIN:VEVENT
DTSTART;TZID=UTC:20211204T090000
DTEND;TZID=UTC:20211204T103000
DTSTAMP:20260421T164421
CREATED:20210920T040539Z
LAST-MODIFIED:20210920T040539Z
UID:551-1638608400-1638613800@arubazerowaste.com
SUMMARY:Tree Nursery Volunteering
DESCRIPTION:Volunteers needed for repotting\, watering and moving plants in the nursery. \nIf you are interested\, please contact Anita on WhatsApp at 566-0636
URL:https://arubazerowaste.com/event/tree-nursery-volunteering-4/
END:VEVENT
BEGIN:VEVENT
DTSTART;TZID=UTC:20211204T080000
DTEND;TZID=UTC:20211205T150000
DTSTAMP:20260421T164421
CREATED:20211203T125454Z
LAST-MODIFIED:20211203T125454Z
UID:758-1638604800-1638716400@arubazerowaste.com
SUMMARY:End of the year clean-up
DESCRIPTION:End of Year Clean Up  | Day 4 and 5 di December proximo lo tin baki available na different location rond di nos isla pa asina por probecha tira sushi di afo fin di aña.\n\n\nHave a good cure and clean Aruba
URL:https://arubazerowaste.com/event/end-of-the-year-clean-up/
END:VEVENT
BEGIN:VEVENT
DTSTART;TZID=UTC:20211203T093000
DTEND;TZID=UTC:20211203T160000
DTSTAMP:20260421T164421
CREATED:20210920T034708Z
LAST-MODIFIED:20210920T034708Z
UID:532-1638523800-1638547200@arubazerowaste.com
SUMMARY:Recycling Plastic
DESCRIPTION:Plastic Beach Party needs volunteers to help sort\, cut and wash plastics every Friday. \n  \nSign-up on their website with the contact form at the bottom of the page. \n  \nHome
URL:https://arubazerowaste.com/event/recycling-plastic-9/
LOCATION:Flemingstraat 26\, Flemingstraat 26\, Aruba
END:VEVENT
BEGIN:VEVENT
DTSTART;TZID=UTC:20211128T080000
DTEND;TZID=UTC:20211128T100000
DTSTAMP:20260421T164421
CREATED:20211122T192859Z
LAST-MODIFIED:20211122T192859Z
UID:747-1638086400-1638093600@arubazerowaste.com
SUMMARY:Beach Clean Up- ScubbleBubbles
DESCRIPTION:Volunteers needed for beach clean-up \nIf you are interested\, just show up to the beach behind the California Lighthouse at 8 am on November 28th\, 2021. \nBring gloves\, water\, hat\, snack\, and reef safe sunscreen. \nhttps://www.facebook.com/ScubbleBubbles
URL:https://arubazerowaste.com/event/beach-clean-up-scubblebubbles-6/
END:VEVENT
BEGIN:VEVENT
DTSTART;TZID=UTC:20211127T070000
DTEND;TZID=UTC:20211127T100000
DTSTAMP:20260421T164421
CREATED:20211029T024744Z
LAST-MODIFIED:20211029T033009Z
UID:684-1637996400-1638007200@arubazerowaste.com
SUMMARY:Sample Collections- Ocean Science- Micro Plastic Pollution-Week 5
DESCRIPTION:Ocean Science- Micro Plastic Pollution Week 5 \n7am-10am November 27th \nBoca Westpunt \nBin yuda nos collecta samples di santo blanco pa now por analisa micro-plastic. Mas participante join mas grandi e area di beach nos por cubri. Esaki ta e prome stap di e programa pa pow analisa micro platic. \nHelp us collect sand samples for micro-plastic analysis. The more volunteers we have\, the broader the section of the beach that we can look at! This is the first step in our micro-plastic monitoring program.
URL:https://arubazerowaste.com/event/ocean-science-micro-plastic-pollution-week-5/
END:VEVENT
BEGIN:VEVENT
DTSTART;TZID=UTC:20211126T093000
DTEND;TZID=UTC:20211126T160000
DTSTAMP:20260421T164421
CREATED:20210920T034626Z
LAST-MODIFIED:20210920T034626Z
UID:530-1637919000-1637942400@arubazerowaste.com
SUMMARY:Recycling Plastic
DESCRIPTION:Plastic Beach Party needs volunteers to help sort\, cut and wash plastics every Friday. \n  \nSign-up on their website with the contact form at the bottom of the page. \n  \nHome
URL:https://arubazerowaste.com/event/recycling-plastic-8/
LOCATION:Flemingstraat 26\, Flemingstraat 26\, Aruba
END:VEVENT
BEGIN:VEVENT
DTSTART;TZID=UTC:20211124T180000
DTEND;TZID=UTC:20211124T200000
DTSTAMP:20260421T164421
CREATED:20211029T032541Z
LAST-MODIFIED:20211029T032755Z
UID:708-1637776800-1637784000@arubazerowaste.com
SUMMARY:Ocean Sensors-Ocean Science- Micro Plastic Pollution Week 5
DESCRIPTION:  \n6pm-8pm November 24th \nAt Brenchie’s Lab \nWe’re measuring the coast using google earth engine (GIS) \, if you’re interested in geo-spatial analysis\, coding or beach erosion and feel like spending hours on a computer testing code from github\, join us Wednesday night 6pm-8pm
URL:https://arubazerowaste.com/event/ocean-sensors-ocean-science-micro-plastic-pollution-week-5/
LOCATION:Brenchie’s Lab\, Caya G. F. Betico Croes 59\, Oranjestad\, Aruba
END:VEVENT
BEGIN:VEVENT
DTSTART;TZID=UTC:20211120T090000
DTEND;TZID=UTC:20211120T223000
DTSTAMP:20260421T164421
CREATED:20210920T040412Z
LAST-MODIFIED:20210920T040412Z
UID:549-1637398800-1637447400@arubazerowaste.com
SUMMARY:Tree Nursery Volunteering
DESCRIPTION:Volunteers needed for repotting\, watering and moving plants in the nursery. \nIf you are interested\, please contact Anita on WhatsApp at 566-0636
URL:https://arubazerowaste.com/event/tree-nursery-volunteering-3/
END:VEVENT
BEGIN:VEVENT
DTSTART;TZID=UTC:20211120T070000
DTEND;TZID=UTC:20211120T100000
DTSTAMP:20260421T164421
CREATED:20211029T024550Z
LAST-MODIFIED:20211029T033029Z
UID:681-1637391600-1637402400@arubazerowaste.com
SUMMARY:Sample Collections- Ocean Science- Micro Plastic Pollution-Week 4
DESCRIPTION:Ocean Science- Micro Plastic Pollution Week 4 \n7am-10am November 20 \nFisherman’s huts \nBin yuda nos collecta samples di santo blanco pa now por analisa micro-plastic. Mas participante join mas grandi e area di beach nos por cubri. Esaki ta e prome stap di e programa pa pow analisa micro platic. \nHelp us collect sand samples for micro-plastic analysis. The more volunteers we have\, the broader the section of the beach that we can look at! This is the first step in our micro-plastic monitoring program.
URL:https://arubazerowaste.com/event/ocean-science-micro-plastic-pollution-week-4/
END:VEVENT
BEGIN:VEVENT
DTSTART;TZID=UTC:20211119T093000
DTEND;TZID=UTC:20211119T160000
DTSTAMP:20260421T164421
CREATED:20210920T034416Z
LAST-MODIFIED:20210920T034416Z
UID:528-1637314200-1637337600@arubazerowaste.com
SUMMARY:Recycling Plastic
DESCRIPTION:Plastic Beach Party needs volunteers to help sort\, cut and wash plastics every Friday. \n  \nSign-up on their website with the contact form at the bottom of the page. \n  \nHome
URL:https://arubazerowaste.com/event/recycling-plastic-7/
LOCATION:Flemingstraat 26\, Flemingstraat 26\, Aruba
END:VEVENT
BEGIN:VEVENT
DTSTART;TZID=UTC:20211112T093000
DTEND;TZID=UTC:20211112T160000
DTSTAMP:20260421T164421
CREATED:20210920T034338Z
LAST-MODIFIED:20210920T034338Z
UID:526-1636709400-1636732800@arubazerowaste.com
SUMMARY:Recycling Plastic
DESCRIPTION:Plastic Beach Party needs volunteers to help sort\, cut and wash plastics every Friday. \n  \nSign-up on their website with the contact form at the bottom of the page. \n  \nHome
URL:https://arubazerowaste.com/event/recycling-plastic-6/
LOCATION:Flemingstraat 26\, Flemingstraat 26\, Aruba
END:VEVENT
BEGIN:VEVENT
DTSTART;TZID=UTC:20211111T183000
DTEND;TZID=UTC:20211111T200000
DTSTAMP:20260421T164421
CREATED:20211116T192646Z
LAST-MODIFIED:20211116T193519Z
UID:728-1636655400-1636660800@arubazerowaste.com
SUMMARY:M.A.G.E.C. Meeting
DESCRIPTION:M.A.G.E.C. Meeting open to Public \nGuest Speaker is Christie Mettes from Plastic Beach Party \nNovember 11th at 6:30pm at University of Aruba. Room is TBA (To Be Announced) \nCheck in with M.A.G.E.C. Facebook or Instagram for more information. \nFor any questions magec@ua.aw
URL:https://arubazerowaste.com/event/m-a-g-e-c-meeting-3/
LOCATION:University of Aruba\, J.E. Irausquinplein 4\, Aruba
END:VEVENT
BEGIN:VEVENT
DTSTART;TZID=UTC:20211110T180000
DTEND;TZID=UTC:20211110T200000
DTSTAMP:20260421T164421
CREATED:20211029T032328Z
LAST-MODIFIED:20211029T032328Z
UID:706-1636567200-1636574400@arubazerowaste.com
SUMMARY:GIS Mapping-Ocean Science- Micro Plastic Pollution Week 4
DESCRIPTION:  \n6pm-8pm November 10th \nAt Brenchie’s Lab \nWe’re measuring the coast using google earth engine (GIS) \, if you’re interested in geo-spatial analysis\, coding or beach erosion and feel like spending hours on a computer testing code from github\, join us Wednesday night 6pm-8pm
URL:https://arubazerowaste.com/event/gis-mapping-ocean-science-micro-plastic-pollution-week-4/
LOCATION:Brenchie’s Lab\, Caya G. F. Betico Croes 59\, Oranjestad\, Aruba
END:VEVENT
BEGIN:VEVENT
DTSTART;TZID=UTC:20211107T100000
DTEND;TZID=UTC:20211107T140000
DTSTAMP:20260421T164421
CREATED:20210920T035121Z
LAST-MODIFIED:20210920T035121Z
UID:535-1636279200-1636293600@arubazerowaste.com
SUMMARY:Farmer's Market
DESCRIPTION:Local and sustainable artisans and farmers selling delicious snacks\, juices\, oils\, soaps\, cosmetics\, candles\, herb mixes and art works.
URL:https://arubazerowaste.com/event/farmers-market-2/
LOCATION:Ostrich Farm\, Matividiri 57\, Aruba
END:VEVENT
BEGIN:VEVENT
DTSTART;TZID=UTC:20211107T080000
DTEND;TZID=UTC:20211107T220000
DTSTAMP:20260421T164421
CREATED:20210920T040223Z
LAST-MODIFIED:20211116T195402Z
UID:547-1636272000-1636322400@arubazerowaste.com
SUMMARY:Tree Planting-Marinierskazerne
DESCRIPTION:Planting trees at Marinierskazerne \nNo more volunteers needed for this event. But if you are interested in other tree planting events\, please contact Anita on WhatsApp at 566-0636
URL:https://arubazerowaste.com/event/tree-nursery-volunteering-2/
LOCATION:Marinierskazerne\, 532 AW Savaneta\, Savaneta\, Aruba
END:VEVENT
BEGIN:VEVENT
DTSTART;TZID=UTC:20211107T080000
DTEND;TZID=UTC:20211107T100000
DTSTAMP:20260421T164421
CREATED:20211106T034132Z
LAST-MODIFIED:20211106T034132Z
UID:720-1636272000-1636279200@arubazerowaste.com
SUMMARY:Beach Clean Up-ScubbleBubbles
DESCRIPTION:Volunteers needed for beach clean-up \nIf you are interested\, just show up to Grapefield Beach at 8 am on November 11th\, 2021. \nBring gloves\, water\, hat\, snack\, and reef safe sunscreen. \nhttps://www.facebook.com/ScubbleBubbles
URL:https://arubazerowaste.com/event/beach-clean-up-scubblebubbles-5/
END:VEVENT
BEGIN:VEVENT
DTSTART;TZID=UTC:20211106T070000
DTEND;TZID=UTC:20211106T110000
DTSTAMP:20260421T164421
CREATED:20211029T024410Z
LAST-MODIFIED:20211029T033047Z
UID:679-1636182000-1636196400@arubazerowaste.com
SUMMARY:Sample Collections- Ocean Science- Micro Plastic Pollution-Week 3
DESCRIPTION:Ocean Science- Micro Plastic Pollution Week 3 \n7am-11am November 6th \nBubali \nBin yuda nos collecta samples di santo blanco pa now por analisa micro-plastic. Mas participante join mas grandi e area di beach nos por cubri. Esaki ta e prome stap di e programa pa pow analisa micro platic. \nHelp us collect sand samples for micro-plastic analysis. The more volunteers we have\, the broader the section of the beach that we can look at! This is the first step in our micro-plastic monitoring program.
URL:https://arubazerowaste.com/event/ocean-science-micro-plastic-pollution-week-3/
END:VEVENT
BEGIN:VEVENT
DTSTART;TZID=UTC:20211105T093000
DTEND;TZID=UTC:20211105T160000
DTSTAMP:20260421T164421
CREATED:20210920T034230Z
LAST-MODIFIED:20210920T034741Z
UID:524-1636104600-1636128000@arubazerowaste.com
SUMMARY:Recycling Plastic
DESCRIPTION:Plastic Beach Party needs volunteers to help sort\, cut and wash plastics every Friday. \n  \nSign-up on their website with the contact form at the bottom of the page. \n  \nHome
URL:https://arubazerowaste.com/event/recycle-plastics/
LOCATION:Flemingstraat 26\, Flemingstraat 26\, Aruba
END:VEVENT
BEGIN:VEVENT
DTSTART;TZID=UTC:20211103T180000
DTEND;TZID=UTC:20211103T200000
DTSTAMP:20260421T164421
CREATED:20211029T032152Z
LAST-MODIFIED:20211029T032152Z
UID:704-1635962400-1635969600@arubazerowaste.com
SUMMARY:GIS Mapping-Ocean Science- Micro Plastic Pollution Week 3
DESCRIPTION:  \n6pm-8pm November 3rd \nAt Brenchie’s Lab \nWe’re measuring the coast using google earth engine (GIS) \, if you’re interested in geo-spatial analysis\, coding or beach erosion and feel like spending hours on a computer testing code from github\, join us Wednesday night 6pm-8pm
URL:https://arubazerowaste.com/event/gis-mapping-ocean-science-micro-plastic-pollution-week-3/
LOCATION:Brenchie’s Lab\, Caya G. F. Betico Croes 59\, Oranjestad\, Aruba
END:VEVENT
BEGIN:VEVENT
DTSTART;TZID=UTC:20211030T170000
DTEND;TZID=UTC:20211030T210000
DTSTAMP:20260421T164421
CREATED:20211006T225258Z
LAST-MODIFIED:20211021T160942Z
UID:644-1635613200-1635627600@arubazerowaste.com
SUMMARY:Climate TED talk event- Aruba
DESCRIPTION:Climate TED talk event in Aruba \nStreaming live on Telearuba and countdown.ted.com \n5pm-9pm on October 30th
URL:https://arubazerowaste.com/event/climate-ted-talk-event/
LOCATION:Arikok National Park\, San Fuego 70\, Santa Cruz\, Aruba
END:VEVENT
BEGIN:VEVENT
DTSTART;TZID=UTC:20211030T070000
DTEND;TZID=UTC:20211030T090000
DTSTAMP:20260421T164421
CREATED:20211023T135309Z
LAST-MODIFIED:20211029T033109Z
UID:676-1635577200-1635584400@arubazerowaste.com
SUMMARY:Sample Collections- Ocean Science- Micro Plastic Pollution-Week 2
DESCRIPTION:Ocean Science- Micro Plastic Pollution Week 2 \n7am-9am October 30th \nBehinds JAD’s Dive center \nBin yuda nos collecta samples di santo blanco pa now por analisa micro-plastic. Mas participante join mas grandi e area di beach nos por cubri. Esaki ta e prome stap di e programa pa pow analisa micro platic. \nHelp us collect sand samples for micro-plastic analysis. The more volunteers we have\, the broader the section of the beach that we can look at! This is the first step in our micro-plastic monitoring program.
URL:https://arubazerowaste.com/event/ocean-science-micro-plastic-pollution-week-2/
END:VEVENT
BEGIN:VEVENT
DTSTART;TZID=UTC:20211029T093000
DTEND;TZID=UTC:20211029T160000
DTSTAMP:20260421T164421
CREATED:20210920T034143Z
LAST-MODIFIED:20210920T034143Z
UID:522-1635499800-1635523200@arubazerowaste.com
SUMMARY:Recycling Plastic
DESCRIPTION:Plastic Beach Party needs volunteers to help sort\, cut and wash plastics every Friday. \n  \nSign-up on their website with the contact form at the bottom of the page. \n  \nHome
URL:https://arubazerowaste.com/event/recycling-plastic-5/
LOCATION:Flemingstraat 26\, Flemingstraat 26\, Aruba
END:VEVENT
BEGIN:VEVENT
DTSTART;TZID=UTC:20211027T180000
DTEND;TZID=UTC:20211027T200000
DTSTAMP:20260421T164421
CREATED:20211029T031915Z
LAST-MODIFIED:20211029T031935Z
UID:698-1635357600-1635364800@arubazerowaste.com
SUMMARY:GIS Mapping-Ocean Science- Micro Plastic Pollution Week 2
DESCRIPTION:  \n6pm-8pm October 27th \nAt Brenchie’s Lab \nWe’re measuring the coast using google earth engine (GIS) \, if you’re interested in geo-spatial analysis\, coding or beach erosion and feel like spending hours on a computer testing code from github\, join us Wednesday night 6pm-8pm
URL:https://arubazerowaste.com/event/gis-mapping-ocean-science-micro-plastic-pollution-week-2/
LOCATION:Brenchie’s Lab\, Caya G. F. Betico Croes 59\, Oranjestad\, Aruba
END:VEVENT
BEGIN:VEVENT
DTSTART;TZID=UTC:20211023T090000
DTEND;TZID=UTC:20211023T223000
DTSTAMP:20260421T164421
CREATED:20210920T040137Z
LAST-MODIFIED:20210920T040137Z
UID:545-1634979600-1635028200@arubazerowaste.com
SUMMARY:Tree Nursery Volunteering
DESCRIPTION:Volunteers needed for repotting\, watering and moving plants in the nursery. \nIf you are interested\, please contact Anita on WhatsApp at 566-0636
URL:https://arubazerowaste.com/event/tree-nursery-volunteering/
END:VEVENT
BEGIN:VEVENT
DTSTART;TZID=UTC:20211023T070000
DTEND;TZID=UTC:20211023T090000
DTSTAMP:20260421T164421
CREATED:20211023T014509Z
LAST-MODIFIED:20211029T032941Z
UID:667-1634972400-1634979600@arubazerowaste.com
SUMMARY:Sample Collections- Ocean Science- Micro Plastic Pollution-Week 1
DESCRIPTION:Ocean Science- Micro Plastic Pollution Week 1 \nSaturday October 23rd\, 7am-9am \nSurf Side Beach bar \nCollecting sand samples for microplastic analysis.
URL:https://arubazerowaste.com/event/ocean-science-micro-plastic-pollution-week-1/
LOCATION:Surf Side Beach Bar\, Behind Linear Park next to the Airport\, Aruba
END:VEVENT
BEGIN:VEVENT
DTSTART;TZID=UTC:20211022T093000
DTEND;TZID=UTC:20211022T160000
DTSTAMP:20260421T164421
CREATED:20210920T033920Z
LAST-MODIFIED:20210920T033920Z
UID:520-1634895000-1634918400@arubazerowaste.com
SUMMARY:Recycling Plastic
DESCRIPTION:Plastic Beach Party needs volunteers to help sort\, cut and wash plastics every Friday. \n  \nSign-up on their website with the contact form at the bottom of the page. \n  \nHome
URL:https://arubazerowaste.com/event/recycling-plastic-4/
LOCATION:Flemingstraat 26\, Flemingstraat 26\, Aruba
END:VEVENT
END:VCALENDAR