BEGIN:VCALENDAR
VERSION:2.0
PRODID:-//Zero Waste Aruba - ECPv5.9.1//NONSGML v1.0//EN
CALSCALE:GREGORIAN
METHOD:PUBLISH
X-WR-CALNAME:Zero Waste Aruba
X-ORIGINAL-URL:https://arubazerowaste.com
X-WR-CALDESC:Events for Zero Waste Aruba
BEGIN:VTIMEZONE
TZID:UTC
BEGIN:STANDARD
TZOFFSETFROM:+0000
TZOFFSETTO:+0000
TZNAME:UTC
DTSTART:20220101T000000
END:STANDARD
END:VTIMEZONE
BEGIN:VEVENT
DTSTART;TZID=UTC:20220904T100000
DTEND;TZID=UTC:20220904T140000
DTSTAMP:20260421T083752
CREATED:20220803T095454Z
LAST-MODIFIED:20220803T095518Z
UID:1200-1662285600-1662300000@arubazerowaste.com
SUMMARY:Farmer's Market
DESCRIPTION:https://www.facebook.com/arubaostrichfarm
URL:https://arubazerowaste.com/event/farmers-market-11/
LOCATION:Ostrich Farm\, Matividiri 57\, Aruba
ATTACH;FMTTYPE=image/jpeg:https://arubazerowaste.com/wp-content/uploads/2021/09/240743583_4479542938763155_1832003768640043819_n.jpg
END:VEVENT
BEGIN:VEVENT
DTSTART;TZID=UTC:20220902T100000
DTEND;TZID=UTC:20220902T160000
DTSTAMP:20260421T083752
CREATED:20220803T094826Z
LAST-MODIFIED:20220803T094826Z
UID:1188-1662112800-1662134400@arubazerowaste.com
SUMMARY:Recycle Plastic
DESCRIPTION:Plastic Beach Party needs volunteers to help sort\, cut and wash plastics every Friday. \n  \nSign-up on their website with the contact form at the bottom of the page.
URL:https://arubazerowaste.com/event/recycle-plastic-37/
LOCATION:Flemingstraat 26\, Flemingstraat 26\, Aruba
ATTACH;FMTTYPE=image/jpeg:https://arubazerowaste.com/wp-content/uploads/2022/04/WhatsApp-Image-2022-04-01-at-4.10.06-PM.jpeg
END:VEVENT
BEGIN:VEVENT
DTSTART;TZID=UTC:20220826T100000
DTEND;TZID=UTC:20220826T160000
DTSTAMP:20260421T083752
CREATED:20220802T152910Z
LAST-MODIFIED:20220802T152919Z
UID:1181-1661508000-1661529600@arubazerowaste.com
SUMMARY:Recycle Plastic
DESCRIPTION:Plastic Beach Party needs volunteers to help sort\, cut and wash plastics every Friday. \n  \nSign-up on their website with the contact form at the bottom of the page.
URL:https://arubazerowaste.com/event/recycle-plastic-36/
LOCATION:Flemingstraat 26\, Flemingstraat 26\, Aruba
ATTACH;FMTTYPE=image/jpeg:https://arubazerowaste.com/wp-content/uploads/2022/04/WhatsApp-Image-2022-04-01-at-4.10.06-PM.jpeg
END:VEVENT
BEGIN:VEVENT
DTSTART;TZID=UTC:20220819T100000
DTEND;TZID=UTC:20220819T160000
DTSTAMP:20260421T083752
CREATED:20220802T152747Z
LAST-MODIFIED:20220802T152747Z
UID:1179-1660903200-1660924800@arubazerowaste.com
SUMMARY:Recycle Plastic
DESCRIPTION:Plastic Beach Party needs volunteers to help sort\, cut and wash plastics every Friday. \n  \nSign-up on their website with the contact form at the bottom of the page.
URL:https://arubazerowaste.com/event/recycle-plastic-35/
LOCATION:Flemingstraat 26\, Flemingstraat 26\, Aruba
ATTACH;FMTTYPE=image/jpeg:https://arubazerowaste.com/wp-content/uploads/2022/04/WhatsApp-Image-2022-04-01-at-4.08.51-PM.jpeg
END:VEVENT
BEGIN:VEVENT
DTSTART;TZID=UTC:20220812T100000
DTEND;TZID=UTC:20220812T160000
DTSTAMP:20260421T083752
CREATED:20220802T152621Z
LAST-MODIFIED:20220802T152653Z
UID:1177-1660298400-1660320000@arubazerowaste.com
SUMMARY:Recycle Plastic
DESCRIPTION:Plastic Beach Party needs volunteers to help sort\, cut and wash plastics every Friday. \n  \nSign-up on their website with the contact form at the bottom of the page.
URL:https://arubazerowaste.com/event/recycle-plastic-34/
LOCATION:Flemingstraat 26\, Flemingstraat 26\, Aruba
ATTACH;FMTTYPE=image/jpeg:https://arubazerowaste.com/wp-content/uploads/2022/04/WhatsApp-Image-2022-04-01-at-4.07.07-PM.jpeg
END:VEVENT
BEGIN:VEVENT
DTSTART;TZID=UTC:20220810T190000
DTEND;TZID=UTC:20220810T190000
DTSTAMP:20260421T083752
CREATED:20220802T152125Z
LAST-MODIFIED:20220802T152215Z
UID:1170-1660158000-1660158000@arubazerowaste.com
SUMMARY:Agriculture for women
DESCRIPTION:August 10th at 7pm at Biblioteca Nacional. \nUniting women in Agriculture. \nFor more information whataspp +5-999-520-0282
URL:https://arubazerowaste.com/event/agriculture-for-women/
LOCATION:Biblioteca Nacional\, George Madurostraat 13\, Oranjestad\, Aruba
ATTACH;FMTTYPE=image/jpeg:https://arubazerowaste.com/wp-content/uploads/2022/08/WhatsApp-Image-2022-07-26-at-8.29.14-AM.jpeg
END:VEVENT
BEGIN:VEVENT
DTSTART;TZID=UTC:20220807T100000
DTEND;TZID=UTC:20220807T140000
DTSTAMP:20260421T083752
CREATED:20220701T125630Z
LAST-MODIFIED:20220701T125630Z
UID:1151-1659866400-1659880800@arubazerowaste.com
SUMMARY:Farmer's Market
DESCRIPTION:  \nLocal and sustainable artisans and farmers selling delicious snacks\, juices\, oils\, soaps\, cosmetics\, candles\, herb mixes and art works. \nFirst Sunday of the month\, 10am-2pm at the Ostrich farm
URL:https://arubazerowaste.com/event/farmers-market-9/
LOCATION:Ostrich Farm\, Matividiri 57\, Aruba
ATTACH;FMTTYPE=image/jpeg:https://arubazerowaste.com/wp-content/uploads/2021/09/240743583_4479542938763155_1832003768640043819_n.jpg
END:VEVENT
BEGIN:VEVENT
DTSTART;TZID=UTC:20220805T100000
DTEND;TZID=UTC:20220805T160000
DTSTAMP:20260421T083752
CREATED:20220802T152327Z
LAST-MODIFIED:20220802T152327Z
UID:1175-1659693600-1659715200@arubazerowaste.com
SUMMARY:Recycle Plastic
DESCRIPTION:Plastic Beach Party needs volunteers to help sort\, cut and wash plastics every Friday. \n  \nSign-up on their website with the contact form at the bottom of the page.
URL:https://arubazerowaste.com/event/recycle-plastic-33/
LOCATION:Flemingstraat 26\, Flemingstraat 26\, Aruba
ATTACH;FMTTYPE=image/jpeg:https://arubazerowaste.com/wp-content/uploads/2022/04/WhatsApp-Image-2022-04-01-at-4.06.33-PM.jpeg
END:VEVENT
BEGIN:VEVENT
DTSTART;TZID=UTC:20220729T100000
DTEND;TZID=UTC:20220729T160000
DTSTAMP:20260421T083752
CREATED:20220701T184023Z
LAST-MODIFIED:20220701T184023Z
UID:1163-1659088800-1659110400@arubazerowaste.com
SUMMARY:Recycle Plastic
DESCRIPTION:Plastic Beach Party needs volunteers to help sort\, cut and wash plastics every Friday. \n  \nSign-up on their website with the contact form at the bottom of the page.
URL:https://arubazerowaste.com/event/recycle-plastic-32/
LOCATION:Flemingstraat 26\, Flemingstraat 26\, Aruba
ATTACH;FMTTYPE=image/jpeg:https://arubazerowaste.com/wp-content/uploads/2022/04/WhatsApp-Image-2022-04-01-at-4.08.51-PM.jpeg
END:VEVENT
BEGIN:VEVENT
DTSTART;TZID=UTC:20220724T080000
DTEND;TZID=UTC:20220724T100000
DTSTAMP:20260421T083752
CREATED:20220718T224933Z
LAST-MODIFIED:20220718T224933Z
UID:1168-1658649600-1658656800@arubazerowaste.com
SUMMARY:Beach Clean Up
DESCRIPTION:Volunteers needed for beach clean-up \nIf you are interested\, just show up south of West Punt Beach behind the California Light house at 8 am on July 24th\, 2022. \nBring gloves\, water\, hat\, snack\, and reef safe sunscreen. \nhttps://www.facebook.com/ScubbleBubbles
URL:https://arubazerowaste.com/event/beach-clean-up-2/
END:VEVENT
BEGIN:VEVENT
DTSTART;TZID=UTC:20220723T110000
DTEND;TZID=UTC:20220723T140000
DTSTAMP:20260421T083752
CREATED:20220802T153511Z
LAST-MODIFIED:20220802T153535Z
UID:1183-1658574000-1658584800@arubazerowaste.com
SUMMARY:Garage Sale
DESCRIPTION:Garage Sale at the Zero Waste Spot July 23rd 11am-2pm
URL:https://arubazerowaste.com/event/garage-sale/
LOCATION:Zero Waste Spot\, Caya Ernesto Petronia 26\, Oranjestad\, Aruba
ATTACH;FMTTYPE=image/jpeg:https://arubazerowaste.com/wp-content/uploads/2022/08/WhatsApp-Image-2022-07-19-at-2.23.14-PM-1.jpeg
END:VEVENT
BEGIN:VEVENT
DTSTART;TZID=UTC:20220722T100000
DTEND;TZID=UTC:20220722T160000
DTSTAMP:20260421T083752
CREATED:20220701T183938Z
LAST-MODIFIED:20220701T183938Z
UID:1161-1658484000-1658505600@arubazerowaste.com
SUMMARY:Recycle Plastic
DESCRIPTION:Plastic Beach Party needs volunteers to help sort\, cut and wash plastics every Friday. \n  \nSign-up on their website with the contact form at the bottom of the page.
URL:https://arubazerowaste.com/event/recycle-plastic-31/
LOCATION:Flemingstraat 26\, Flemingstraat 26\, Aruba
ATTACH;FMTTYPE=image/jpeg:https://arubazerowaste.com/wp-content/uploads/2022/04/WhatsApp-Image-2022-04-01-at-4.10.06-PM.jpeg
END:VEVENT
BEGIN:VEVENT
DTSTART;TZID=UTC:20220715T100000
DTEND;TZID=UTC:20220715T163000
DTSTAMP:20260421T083752
CREATED:20220701T183837Z
LAST-MODIFIED:20220701T183837Z
UID:1159-1657879200-1657902600@arubazerowaste.com
SUMMARY:Recycle Plastic
DESCRIPTION:Plastic Beach Party needs volunteers to help sort\, cut and wash plastics every Friday. \n  \nSign-up on their website with the contact form at the bottom of the page.
URL:https://arubazerowaste.com/event/recycle-plastic-30/
LOCATION:Flemingstraat 26\, Flemingstraat 26\, Aruba
ATTACH;FMTTYPE=image/jpeg:https://arubazerowaste.com/wp-content/uploads/2022/04/WhatsApp-Image-2022-04-01-at-4.07.07-PM.jpeg
END:VEVENT
BEGIN:VEVENT
DTSTART;TZID=UTC:20220708T100000
DTEND;TZID=UTC:20220708T163000
DTSTAMP:20260421T083752
CREATED:20220520T123841Z
LAST-MODIFIED:20220520T123841Z
UID:1144-1657274400-1657297800@arubazerowaste.com
SUMMARY:Recycle Plastic
DESCRIPTION:Plastic Beach Party needs volunteers to help sort\, cut and wash plastics every Friday. \n  \nSign-up on their website with the contact form at the bottom of the page.
URL:https://arubazerowaste.com/event/recycle-plastic-29/
LOCATION:Flemingstraat 26\, Flemingstraat 26\, Aruba
ATTACH;FMTTYPE=image/jpeg:https://arubazerowaste.com/wp-content/uploads/2022/04/WhatsApp-Image-2022-04-01-at-4.07.07-PM.jpeg
END:VEVENT
BEGIN:VEVENT
DTSTART;TZID=UTC:20220703T100000
DTEND;TZID=UTC:20220703T140000
DTSTAMP:20260421T083752
CREATED:20220701T125525Z
LAST-MODIFIED:20220701T125525Z
UID:1149-1656842400-1656856800@arubazerowaste.com
SUMMARY:Farmer's Market
DESCRIPTION:  \nLocal and sustainable artisans and farmers selling delicious snacks\, juices\, oils\, soaps\, cosmetics\, candles\, herb mixes and art works. \nFirst Sunday of the month\, 10am-2pm at the Ostrich farm
URL:https://arubazerowaste.com/event/farmers-market-8/
LOCATION:Ostrich Farm\, Matividiri 57\, Aruba
ATTACH;FMTTYPE=image/jpeg:https://arubazerowaste.com/wp-content/uploads/2021/09/240743583_4479542938763155_1832003768640043819_n.jpg
END:VEVENT
BEGIN:VEVENT
DTSTART;TZID=UTC:20220702T090000
DTEND;TZID=UTC:20220702T180000
DTSTAMP:20260421T083752
CREATED:20220701T130533Z
LAST-MODIFIED:20220701T130533Z
UID:1153-1656752400-1656784800@arubazerowaste.com
SUMMARY:Exclusive Vintage event
DESCRIPTION:Dia 2 di July 2022 9AM-6PM \n ROLL THE DICE\n1st Year Anniversary..\nBIN CELEBRA CU NOS\nExclusive Vintage Boutique
URL:https://arubazerowaste.com/event/exclusive-vintage-event/
LOCATION:Exclusive Vintage Boutique\, Santa Cruz 32C\, lokaal 4 Point Plaza\, Santa Cruz\, Aruba
ATTACH;FMTTYPE=image/jpeg:https://arubazerowaste.com/wp-content/uploads/2022/07/291345353_195907192773262_1185495352069317192_n.jpg
ORGANIZER;CN="Exclusive%20Vintage%20Boutique":MAILTO:exclusivevintageboutique@gmail.com
END:VEVENT
BEGIN:VEVENT
DTSTART;TZID=UTC:20220701T100000
DTEND;TZID=UTC:20220701T163000
DTSTAMP:20260421T083752
CREATED:20220520T122212Z
LAST-MODIFIED:20220520T122212Z
UID:1142-1656669600-1656693000@arubazerowaste.com
SUMMARY:Recycle Plastic
DESCRIPTION:Plastic Beach Party needs volunteers to help sort\, cut and wash plastics every Friday. \n  \nSign-up on their website with the contact form at the bottom of the page.
URL:https://arubazerowaste.com/event/recycle-plastic-28/
LOCATION:Flemingstraat 26\, Flemingstraat 26\, Aruba
ATTACH;FMTTYPE=image/jpeg:https://arubazerowaste.com/wp-content/uploads/2022/04/WhatsApp-Image-2022-04-01-at-4.07.07-PM.jpeg
END:VEVENT
BEGIN:VEVENT
DTSTART;TZID=UTC:20220629T070000
DTEND;TZID=UTC:20220629T090000
DTSTAMP:20260421T083752
CREATED:20220505T114523Z
LAST-MODIFIED:20220505T114523Z
UID:1110-1656486000-1656493200@arubazerowaste.com
SUMMARY:Tree Watering
DESCRIPTION:7am-9am Ban Lanta y Planta needs volunteers to help water plants\, clean out grow boxes\, and check overall health of the trees at Marinierskazerne.\nIf you’re interested in joining or have any questions\, send a message to Dae on Whatsapp at +297-567-0670
URL:https://arubazerowaste.com/event/tree-watering-5/
LOCATION:Marinierskazerne\, 532 AW Savaneta\, Savaneta\, Aruba
ATTACH;FMTTYPE=image/png:https://arubazerowaste.com/wp-content/uploads/2022/03/logo.png
END:VEVENT
BEGIN:VEVENT
DTSTART;TZID=UTC:20220624T100000
DTEND;TZID=UTC:20220624T163000
DTSTAMP:20260421T083752
CREATED:20220520T121852Z
LAST-MODIFIED:20220520T122121Z
UID:1140-1656064800-1656088200@arubazerowaste.com
SUMMARY:Recycle Plastic
DESCRIPTION:Plastic Beach Party needs volunteers to help sort\, cut and wash plastics every Friday. \n  \nSign-up on their website with the contact form at the bottom of the page.
URL:https://arubazerowaste.com/event/recycle-plastic-27/
LOCATION:Flemingstraat 26\, Flemingstraat 26\, Aruba
ATTACH;FMTTYPE=image/jpeg:https://arubazerowaste.com/wp-content/uploads/2022/04/WhatsApp-Image-2022-04-01-at-4.07.07-PM.jpeg
END:VEVENT
BEGIN:VEVENT
DTSTART;TZID=UTC:20220617T100000
DTEND;TZID=UTC:20220617T163000
DTSTAMP:20260421T083752
CREATED:20220520T120249Z
LAST-MODIFIED:20220520T120249Z
UID:1138-1655460000-1655483400@arubazerowaste.com
SUMMARY:Recycle Plastic
DESCRIPTION:Plastic Beach Party needs volunteers to help sort\, cut and wash plastics every Friday. \n  \nSign-up on their website with the contact form at the bottom of the page.
URL:https://arubazerowaste.com/event/recycle-plastic-26/
LOCATION:Flemingstraat 26\, Flemingstraat 26\, Aruba
ATTACH;FMTTYPE=image/jpeg:https://arubazerowaste.com/wp-content/uploads/2022/04/WhatsApp-Image-2022-04-01-at-4.07.07-PM.jpeg
END:VEVENT
BEGIN:VEVENT
DTSTART;TZID=UTC:20220615T070000
DTEND;TZID=UTC:20220615T090000
DTSTAMP:20260421T083752
CREATED:20220505T114357Z
LAST-MODIFIED:20220505T114357Z
UID:1108-1655276400-1655283600@arubazerowaste.com
SUMMARY:Tree Watering
DESCRIPTION:7am-9am Ban Lanta y Planta needs volunteers to help water plants\, clean out grow boxes\, and check overall health of the trees at Marinierskazerne.\nIf you’re interested in joining or have any questions\, send a message to Dae on Whatsapp at +297-567-0670
URL:https://arubazerowaste.com/event/tree-watering-4/
LOCATION:Marinierskazerne\, 532 AW Savaneta\, Savaneta\, Aruba
ATTACH;FMTTYPE=image/png:https://arubazerowaste.com/wp-content/uploads/2022/03/logo.png
END:VEVENT
BEGIN:VEVENT
DTSTART;TZID=UTC:20220610T100000
DTEND;TZID=UTC:20220610T163000
DTSTAMP:20260421T083752
CREATED:20220520T120132Z
LAST-MODIFIED:20220520T120132Z
UID:1136-1654855200-1654878600@arubazerowaste.com
SUMMARY:Recycle Plastic
DESCRIPTION:Plastic Beach Party needs volunteers to help sort\, cut and wash plastics every Friday. \n  \nSign-up on their website with the contact form at the bottom of the page.
URL:https://arubazerowaste.com/event/recycle-plastic-25/
LOCATION:Flemingstraat 26\, Flemingstraat 26\, Aruba
ATTACH;FMTTYPE=image/jpeg:https://arubazerowaste.com/wp-content/uploads/2022/04/WhatsApp-Image-2022-04-01-at-4.07.07-PM.jpeg
END:VEVENT
BEGIN:VEVENT
DTSTART;TZID=UTC:20220603T100000
DTEND;TZID=UTC:20220603T163000
DTSTAMP:20260421T083752
CREATED:20220520T115956Z
LAST-MODIFIED:20220520T115956Z
UID:1134-1654250400-1654273800@arubazerowaste.com
SUMMARY:Recycle Plastic
DESCRIPTION:Plastic Beach Party needs volunteers to help sort\, cut and wash plastics every Friday. \n  \nSign-up on their website with the contact form at the bottom of the page.
URL:https://arubazerowaste.com/event/recycle-plastic-24/
LOCATION:Flemingstraat 26\, Flemingstraat 26\, Aruba
END:VEVENT
BEGIN:VEVENT
DTSTART;TZID=UTC:20220601T070000
DTEND;TZID=UTC:20220601T090000
DTSTAMP:20260421T083752
CREATED:20220505T114150Z
LAST-MODIFIED:20220505T114150Z
UID:1105-1654066800-1654074000@arubazerowaste.com
SUMMARY:Tree Watering
DESCRIPTION:  \nBan Lanta y Planta needs volunteers to help water plants\, clean out grow boxes\, and check overall health of the trees at Marinierskazerne.\nIf you’re interested in joining or have any questions\, send a message to Dae on Whatsapp at +297-567-0670
URL:https://arubazerowaste.com/event/tree-watering-3/
LOCATION:Marinierskazerne\, 532 AW Savaneta\, Savaneta\, Aruba
ATTACH;FMTTYPE=image/png:https://arubazerowaste.com/wp-content/uploads/2022/03/logo.png
END:VEVENT
BEGIN:VEVENT
DTSTART;TZID=UTC:20220527T100000
DTEND;TZID=UTC:20220527T163000
DTSTAMP:20260421T083752
CREATED:20220520T115911Z
LAST-MODIFIED:20220520T115911Z
UID:1132-1653645600-1653669000@arubazerowaste.com
SUMMARY:Recycle Plastic
DESCRIPTION:Plastic Beach Party needs volunteers to help sort\, cut and wash plastics every Friday. \n  \nSign-up on their website with the contact form at the bottom of the page.
URL:https://arubazerowaste.com/event/recycle-plastic-23/
LOCATION:Flemingstraat 26\, Flemingstraat 26\, Aruba
ATTACH;FMTTYPE=image/jpeg:https://arubazerowaste.com/wp-content/uploads/2022/04/WhatsApp-Image-2022-04-01-at-4.07.07-PM.jpeg
END:VEVENT
BEGIN:VEVENT
DTSTART;TZID=UTC:20220520T100000
DTEND;TZID=UTC:20220520T163000
DTSTAMP:20260421T083752
CREATED:20220520T115808Z
LAST-MODIFIED:20220520T115808Z
UID:1130-1653040800-1653064200@arubazerowaste.com
SUMMARY:Recycle Plastic
DESCRIPTION:Plastic Beach Party needs volunteers to help sort\, cut and wash plastics every Friday. \n  \nSign-up on their website with the contact form at the bottom of the page.
URL:https://arubazerowaste.com/event/recycle-plastic-22/
LOCATION:Flemingstraat 26\, Flemingstraat 26\, Aruba
ATTACH;FMTTYPE=image/jpeg:https://arubazerowaste.com/wp-content/uploads/2022/04/WhatsApp-Image-2022-04-01-at-4.07.07-PM.jpeg
END:VEVENT
BEGIN:VEVENT
DTSTART;VALUE=DATE:20220520
DTEND;VALUE=DATE:20220523
DTSTAMP:20260421T083752
CREATED:20220505T125254Z
LAST-MODIFIED:20220505T125254Z
UID:1116-1653004800-1653263999@arubazerowaste.com
SUMMARY:3 day Agroforestry Workshop
DESCRIPTION:Theory and Practical workshop on how to create your syntropic agroforestry garden or farm in Aruba.\nFriday May 20th 18:00-21:00\nSaturday May 21 and Sunday 22 08:00-16:00 \n150 fl for the full workshop with lunch included. \n* Bring 3 banana\, papaya or pineapple plants and only pay 125fl \nMore information and details after sign-up. Contact Rose at ROSE@ecolivingaruba.com
URL:https://arubazerowaste.com/event/3-day-agroforestry-workshop/
ATTACH;FMTTYPE=image/jpeg:https://arubazerowaste.com/wp-content/uploads/2022/05/WhatsApp-Image-2022-05-02-at-11.57.36-AM.jpeg
END:VEVENT
BEGIN:VEVENT
DTSTART;TZID=UTC:20220518T180000
DTEND;TZID=UTC:20220518T210000
DTSTAMP:20260421T083752
CREATED:20220505T115059Z
LAST-MODIFIED:20220505T125439Z
UID:1112-1652896800-1652907600@arubazerowaste.com
SUMMARY:AgroForestry Information Night
DESCRIPTION:Information about Agroforestry from 6pm-9pm on Wednesday May 18th\nwith Roland Van Reenen\, cost is 85fl \nMore information and details after sign-up. Contact Rose at ROSE@ecolivingaruba.com
URL:https://arubazerowaste.com/event/agroforestry-information-night/
ATTACH;FMTTYPE=image/jpeg:https://arubazerowaste.com/wp-content/uploads/2022/05/WhatsApp-Image-2022-05-02-at-11.57.33-AM.jpeg
END:VEVENT
BEGIN:VEVENT
DTSTART;TZID=UTC:20220518T070000
DTEND;TZID=UTC:20220518T090000
DTSTAMP:20260421T083752
CREATED:20220505T114053Z
LAST-MODIFIED:20220505T114308Z
UID:1103-1652857200-1652864400@arubazerowaste.com
SUMMARY:Tree Watering
DESCRIPTION:7am-9am Ban Lanta y Planta needs volunteers to help water plants\, clean out grow boxes\, and check overall health of the trees at Marinierskazerne.\nIf you’re interested in joining or have any questions\, send a message to Dae on Whatsapp at +297-567-0670
URL:https://arubazerowaste.com/event/tree-watering-2/
LOCATION:Marinierskazerne\, 532 AW Savaneta\, Savaneta\, Aruba
ATTACH;FMTTYPE=image/png:https://arubazerowaste.com/wp-content/uploads/2022/03/logo.png
END:VEVENT
BEGIN:VEVENT
DTSTART;TZID=UTC:20220513T100000
DTEND;TZID=UTC:20220513T163000
DTSTAMP:20260421T083752
CREATED:20220406T143350Z
LAST-MODIFIED:20220406T143350Z
UID:1074-1652436000-1652459400@arubazerowaste.com
SUMMARY:Recycle Plastic
DESCRIPTION:Plastic Beach Party needs volunteers to help sort\, cut and wash plastics every Friday. \n  \nSign-up on their website with the contact form at the bottom of the page. \nHome
URL:https://arubazerowaste.com/event/recycle-plastic-21/
LOCATION:Flemingstraat 26\, Flemingstraat 26\, Aruba
ATTACH;FMTTYPE=image/jpeg:https://arubazerowaste.com/wp-content/uploads/2022/04/WhatsApp-Image-2022-04-01-at-4.08.51-PM.jpeg
END:VEVENT
END:VCALENDAR