BEGIN:VCALENDAR
VERSION:2.0
PRODID:-//Zero Waste Aruba - ECPv5.9.1//NONSGML v1.0//EN
CALSCALE:GREGORIAN
METHOD:PUBLISH
X-WR-CALNAME:Zero Waste Aruba
X-ORIGINAL-URL:https://arubazerowaste.com
X-WR-CALDESC:Events for Zero Waste Aruba
BEGIN:VTIMEZONE
TZID:UTC
BEGIN:STANDARD
TZOFFSETFROM:+0000
TZOFFSETTO:+0000
TZNAME:UTC
DTSTART:20220101T000000
END:STANDARD
END:VTIMEZONE
BEGIN:VEVENT
DTSTART;TZID=UTC:20230310T080000
DTEND;TZID=UTC:20230311T170000
DTSTAMP:20260420T212226
CREATED:20230304T113755Z
LAST-MODIFIED:20230304T113819Z
UID:1406-1678435200-1678554000@arubazerowaste.com
SUMMARY:Aruba Doet
DESCRIPTION:On Friday the 10th and Saturday the 11th of March 2023\, CEDE Aruba in cooperation with the Oranje Fonds will be organizing the 11th edition of ARUBA DOET\, the biggest volunteer event on the island. \nThe Netherlands and five Caribbean islands highlight these volunteer initiatives\, and stimulate everyone to donate their time to help out the people who need it. This helps everyone!
URL:https://arubazerowaste.com/event/aruba-doet-2/
ATTACH;FMTTYPE=image/jpeg:https://arubazerowaste.com/wp-content/uploads/2023/03/aruba-doet.jpg
END:VEVENT
BEGIN:VEVENT
DTSTART;TZID=UTC:20230305T100000
DTEND;TZID=UTC:20230305T140000
DTSTAMP:20260420T212226
CREATED:20221230T155935Z
LAST-MODIFIED:20230228T101506Z
UID:1329-1678010400-1678024800@arubazerowaste.com
SUMMARY:Farmer's Market Ostrich Farm
DESCRIPTION:  \nLocal and sustainable artisans and farmers selling delicious snacks\, juices\, oils\, soaps\, cosmetics\, candles\, herb mixes and art works. \nFirst Sunday of the month\, 10am-2pm at the Ostrich farm
URL:https://arubazerowaste.com/event/farmers-market-16/
LOCATION:Ostrich Farm\, Matividiri 57\, Aruba
ATTACH;FMTTYPE=image/jpeg:https://arubazerowaste.com/wp-content/uploads/2022/12/FM-11-22.jpg
END:VEVENT
BEGIN:VEVENT
DTSTART;TZID=UTC:20230304T090000
DTEND;TZID=UTC:20230304T120000
DTSTAMP:20260420T212226
CREATED:20230228T100835Z
LAST-MODIFIED:20230228T100835Z
UID:1363-1677920400-1677931200@arubazerowaste.com
SUMMARY:Farmer's Market STR Agriculture
DESCRIPTION:Our Farmer’s Market is coming up and we are excited to share with you a variety of fresh and delicious vegetables and fruits!\n\n\nWe are waiting for you on February 25 from 9 a.m. to 12 p.m. at our local market located at Alto Vista Z/N.\n\n\nDon’t miss the opportunity to enjoy fresh and healthy products directly from our local farmers. In addition\, they will be able to meet and talk with the producers\, learn more about how vegetables and fruits are grown\, and discover new ways of preparing them.
URL:https://arubazerowaste.com/event/farmers-market-str-agriculture-2/
LOCATION:STR Agriculture\, Alto Vista Z/N\, Noord\, Aruba
ATTACH;FMTTYPE=image/jpeg:https://arubazerowaste.com/wp-content/uploads/2023/02/STR-every-Sat.jpg
ORGANIZER;CN="STR%20Agriculture":MAILTO:info@stragriculture.com
END:VEVENT
BEGIN:VEVENT
DTSTART;TZID=UTC:20230304T090000
DTEND;TZID=UTC:20230304T110000
DTSTAMP:20260420T212226
CREATED:20230228T100439Z
LAST-MODIFIED:20230228T100439Z
UID:1356-1677920400-1677927600@arubazerowaste.com
SUMMARY:Farmer's Market 297 Farms
DESCRIPTION:Saturday March 4th we are open from 9am to 11am. Savaneta 173 (Road to Jara football field)\n\n\nWe will have: Lettuce\, Cucumbers\, Eggs\, and mushrooms’ available to buy.\n\n\nCash only and remember to bring you bag.\n\n\nThank you for the continues support.
URL:https://arubazerowaste.com/event/farmers-market-297-farms/
LOCATION:297 Farms\, Savaneta 173\, Savaneta\, Aruba
ATTACH;FMTTYPE=image/jpeg:https://arubazerowaste.com/wp-content/uploads/2023/02/297-farms.jpg
ORGANIZER;CN="297%20Farms":MAILTO:info@297farm.com
END:VEVENT
BEGIN:VEVENT
DTSTART;TZID=UTC:20230303T090000
DTEND;TZID=UTC:20230303T160000
DTSTAMP:20260420T212226
CREATED:20230228T102851Z
LAST-MODIFIED:20230228T102851Z
UID:1385-1677834000-1677859200@arubazerowaste.com
SUMMARY:Recycle Plastic
DESCRIPTION:Plastic Beach Party needs volunteers to help sort\, cut and wash plastics every Friday. (Other day’s and times are available\, just ask) \n  \nSign up via recycle@plasticbeachparty.com or 297-744-7829
URL:https://arubazerowaste.com/event/recycle-plastic-61/
LOCATION:Flemingstraat 26\, Flemingstraat 26\, Aruba
ATTACH;FMTTYPE=image/jpeg:https://arubazerowaste.com/wp-content/uploads/2022/04/WhatsApp-Image-2022-04-01-at-4.10.06-PM.jpeg
END:VEVENT
BEGIN:VEVENT
DTSTART;TZID=UTC:20230225T090000
DTEND;TZID=UTC:20230225T120000
DTSTAMP:20260420T212226
CREATED:20230228T095626Z
LAST-MODIFIED:20230228T100642Z
UID:1351-1677315600-1677326400@arubazerowaste.com
SUMMARY:Farmer's Market STR Agriculture
DESCRIPTION:Our Farmer’s Market is coming up and we are excited to share with you a variety of fresh and delicious vegetables and fruits!\n\n\nWe are waiting for you on February 25 from 9 a.m. to 12 p.m. at our local market located at Alto Vista Z/N.\n\n\nDon’t miss the opportunity to enjoy fresh and healthy products directly from our local farmers. In addition\, they will be able to meet and talk with the producers\, learn more about how vegetables and fruits are grown\, and discover new ways of preparing them.
URL:https://arubazerowaste.com/event/farmers-market-str-agriculture/
LOCATION:STR Agriculture\, Alto Vista Z/N\, Noord\, Aruba
ATTACH;FMTTYPE=image/jpeg:https://arubazerowaste.com/wp-content/uploads/2023/02/feb-25th.jpg
ORGANIZER;CN="STR%20Agriculture":MAILTO:info@stragriculture.com
END:VEVENT
BEGIN:VEVENT
DTSTART;TZID=UTC:20230225T080000
DTEND;TZID=UTC:20230225T110000
DTSTAMP:20260420T212226
CREATED:20230228T103601Z
LAST-MODIFIED:20230228T103601Z
UID:1391-1677312000-1677322800@arubazerowaste.com
SUMMARY:Open Syntropic Garden
DESCRIPTION:Come with your family and learn how to plant water and explore one of the Syntropic Gardens \nSATURDAY February 25 between 8 and 11 AM\nMeet fellow gardeners with knowledge on syntropic agroforestry and see and experience it for yourself.\nDon’t forget to check out our Facebook page SyntropicA and join the community\n\nhttps://www.facebook.com/syntropicfarmingaruba
URL:https://arubazerowaste.com/event/open-syntropic-garden/
ATTACH;FMTTYPE=image/jpeg:https://arubazerowaste.com/wp-content/uploads/2023/02/sytropic-feb-25.jpg
ORGANIZER;CN="SyntropicA":MAILTO:rose@ecolivingaruba.com
END:VEVENT
BEGIN:VEVENT
DTSTART;TZID=UTC:20230224T100000
DTEND;TZID=UTC:20230224T160000
DTSTAMP:20260420T212226
CREATED:20221229T170439Z
LAST-MODIFIED:20221229T170439Z
UID:1327-1677232800-1677254400@arubazerowaste.com
SUMMARY:Recycle Plastic
DESCRIPTION:Plastic Beach Party needs volunteers to help sort\, cut and wash plastics every Friday. (Other day’s and times are available\, just ask) \n  \nSign up via recycle@plasticbeachparty.com or 744 7829
URL:https://arubazerowaste.com/event/recycle-plastic-59/
LOCATION:Flemingstraat 26\, Flemingstraat 26\, Aruba
ATTACH;FMTTYPE=image/jpeg:https://arubazerowaste.com/wp-content/uploads/2022/04/WhatsApp-Image-2022-04-01-at-4.06.33-PM.jpeg
END:VEVENT
BEGIN:VEVENT
DTSTART;TZID=UTC:20230218T090000
DTEND;TZID=UTC:20230218T110000
DTSTAMP:20260420T212226
CREATED:20230215T095042Z
LAST-MODIFIED:20230215T095042Z
UID:1346-1676710800-1676718000@arubazerowaste.com
SUMMARY:Farmer's Market- HappyPonics
DESCRIPTION:Farmer’s Market with local produce and products
URL:https://arubazerowaste.com/event/farmers-market-happyponics/
LOCATION:Happy Ponics\, 159 Paradera\, Noord\, Aruba
ATTACH;FMTTYPE=image/jpeg:https://arubazerowaste.com/wp-content/uploads/2023/02/WhatsApp-Image-2023-02-14-at-3.12.08-PM.jpeg
ORGANIZER;CN="HappyPonics":MAILTO:info.happyponics@gmail.com
END:VEVENT
BEGIN:VEVENT
DTSTART;TZID=UTC:20230217T100000
DTEND;TZID=UTC:20230217T160000
DTSTAMP:20260420T212226
CREATED:20221229T155229Z
LAST-MODIFIED:20221229T165004Z
UID:1299-1676628000-1676649600@arubazerowaste.com
SUMMARY:Recycle Plastic
DESCRIPTION:Plastic Beach Party needs volunteers to help sort\, cut and wash plastics every Friday. (Other day’s and times are available\, just ask) \n  \nSign up via recycle@plasticbeachparty.com or 744 7829
URL:https://arubazerowaste.com/event/recycle-plastic-54/
LOCATION:Flemingstraat 26\, Flemingstraat 26\, Aruba
ATTACH;FMTTYPE=image/jpeg:https://arubazerowaste.com/wp-content/uploads/2022/04/WhatsApp-Image-2022-04-01-at-4.08.51-PM.jpeg
END:VEVENT
BEGIN:VEVENT
DTSTART;TZID=UTC:20230210T100000
DTEND;TZID=UTC:20230210T160000
DTSTAMP:20260420T212226
CREATED:20221229T155711Z
LAST-MODIFIED:20221229T165147Z
UID:1307-1676023200-1676044800@arubazerowaste.com
SUMMARY:Recycle Plastic
DESCRIPTION:Plastic Beach Party needs volunteers to help sort\, cut and wash plastics every Friday. (Other day’s and times are available\, just ask) \n  \nSign up via recycle@plasticbeachparty.com or 744 7829
URL:https://arubazerowaste.com/event/recycle-plastic-58/
LOCATION:Flemingstraat 26\, Flemingstraat 26\, Aruba
ATTACH;FMTTYPE=image/jpeg:https://arubazerowaste.com/wp-content/uploads/2022/04/WhatsApp-Image-2022-04-01-at-4.08.51-PM.jpeg
END:VEVENT
BEGIN:VEVENT
DTSTART;TZID=UTC:20230205T100000
DTEND;TZID=UTC:20230205T140000
DTSTAMP:20260420T212226
CREATED:20221229T160816Z
LAST-MODIFIED:20221229T161018Z
UID:1313-1675591200-1675605600@arubazerowaste.com
SUMMARY:Farmer's Market
DESCRIPTION:  \nLocal and sustainable artisans and farmers selling delicious snacks\, juices\, oils\, soaps\, cosmetics\, candles\, herb mixes and art works. \nFirst Sunday of the month\, 10am-2pm at the Ostrich farm
URL:https://arubazerowaste.com/event/farmers-market-15/
LOCATION:Ostrich Farm\, Matividiri 57\, Aruba
ATTACH;FMTTYPE=image/jpeg:https://arubazerowaste.com/wp-content/uploads/2022/12/FM-11-22.jpg
END:VEVENT
BEGIN:VEVENT
DTSTART;TZID=UTC:20230203T100000
DTEND;TZID=UTC:20230203T160000
DTSTAMP:20260420T212226
CREATED:20221229T155615Z
LAST-MODIFIED:20221229T165229Z
UID:1305-1675418400-1675440000@arubazerowaste.com
SUMMARY:Recycle Plastic
DESCRIPTION:Plastic Beach Party needs volunteers to help sort\, cut and wash plastics every Friday. (Other day’s and times are available\, just ask) \n  \nSign up via recycle@plasticbeachparty.com or 744 7829
URL:https://arubazerowaste.com/event/recycle-plastic-57/
LOCATION:Flemingstraat 26\, Flemingstraat 26\, Aruba
ATTACH;FMTTYPE=image/jpeg:https://arubazerowaste.com/wp-content/uploads/2022/04/WhatsApp-Image-2022-04-01-at-4.10.06-PM.jpeg
END:VEVENT
BEGIN:VEVENT
DTSTART;TZID=UTC:20230127T100000
DTEND;TZID=UTC:20230127T160000
DTSTAMP:20260420T212226
CREATED:20221229T155511Z
LAST-MODIFIED:20221229T165337Z
UID:1303-1674813600-1674835200@arubazerowaste.com
SUMMARY:Recycle Plastic
DESCRIPTION:Plastic Beach Party needs volunteers to help sort\, cut and wash plastics every Friday. (Other day’s and times are available\, just ask) \n  \nSign up via recycle@plasticbeachparty.com or 744 7829
URL:https://arubazerowaste.com/event/recycle-plastic-56/
LOCATION:Flemingstraat 26\, Flemingstraat 26\, Aruba
ATTACH;FMTTYPE=image/jpeg:https://arubazerowaste.com/wp-content/uploads/2022/04/WhatsApp-Image-2022-04-01-at-4.06.33-PM.jpeg
END:VEVENT
BEGIN:VEVENT
DTSTART;TZID=UTC:20230120T100000
DTEND;TZID=UTC:20230120T160000
DTSTAMP:20260420T212226
CREATED:20221229T155324Z
LAST-MODIFIED:20221229T165404Z
UID:1301-1674208800-1674230400@arubazerowaste.com
SUMMARY:Recycle Plastic
DESCRIPTION:Plastic Beach Party needs volunteers to help sort\, cut and wash plastics every Friday. (Other day’s and times are available\, just ask) \n  \nSign up via recycle@plasticbeachparty.com or 744 7829
URL:https://arubazerowaste.com/event/recycle-plastic-55/
LOCATION:Flemingstraat 26\, Flemingstraat 26\, Aruba
ATTACH;FMTTYPE=image/jpeg:https://arubazerowaste.com/wp-content/uploads/2022/04/WhatsApp-Image-2022-04-01-at-4.07.07-PM.jpeg
END:VEVENT
BEGIN:VEVENT
DTSTART;TZID=UTC:20230114T080000
DTEND;TZID=UTC:20230114T110000
DTSTAMP:20260420T212226
CREATED:20221229T163237Z
LAST-MODIFIED:20221229T170153Z
UID:1317-1673683200-1673694000@arubazerowaste.com
SUMMARY:Tree Planting
DESCRIPTION:8am-10am \n‘Ban Lanta y Planta – Trees for Aruba’ is hosting their next Tree-Planting Event at their Reforestation site in Noord. Want to help?\nBring water\, a shovel\, gloves\, wear a hat and put on some sunscreen! We provide the trees to be planted\, all local. \nhttps://www.facebook.com/events/369262718564747?ref=newsfeed \n  \n 
URL:https://arubazerowaste.com/event/tree-planting-5/
ATTACH;FMTTYPE=image/png:https://arubazerowaste.com/wp-content/uploads/2022/03/logo.png
END:VEVENT
BEGIN:VEVENT
DTSTART;TZID=UTC:20230113T100000
DTEND;TZID=UTC:20230113T160000
DTSTAMP:20260420T212226
CREATED:20221229T154753Z
LAST-MODIFIED:20221229T170111Z
UID:1297-1673604000-1673625600@arubazerowaste.com
SUMMARY:Recycle Plastic
DESCRIPTION:Plastic Beach Party needs volunteers to help sort\, cut and wash plastics every Friday. (Other day’s and times are available\, just ask) \n  \nSign up via recycle@plasticbeachparty.com or 744 7829
URL:https://arubazerowaste.com/event/recycle-plastic-53/
LOCATION:Flemingstraat 26\, Flemingstraat 26\, Aruba
ATTACH;FMTTYPE=image/jpeg:https://arubazerowaste.com/wp-content/uploads/2022/04/WhatsApp-Image-2022-04-01-at-4.10.06-PM.jpeg
END:VEVENT
BEGIN:VEVENT
DTSTART;TZID=UTC:20221218T100000
DTEND;TZID=UTC:20221218T140000
DTSTAMP:20260420T212226
CREATED:20221217T130621Z
LAST-MODIFIED:20221217T130621Z
UID:1293-1671357600-1671372000@arubazerowaste.com
SUMMARY:Christmas market
DESCRIPTION:Christmas market at the Ostrich Farm Dec 18th 10am-2pm
URL:https://arubazerowaste.com/event/christmas-market/
LOCATION:Ostrich Farm\, Matividiri 57\, Aruba
ATTACH;FMTTYPE=image/jpeg:https://arubazerowaste.com/wp-content/uploads/2022/12/2022-farmers-xmas-market.jpg
END:VEVENT
BEGIN:VEVENT
DTSTART;TZID=UTC:20221216T100000
DTEND;TZID=UTC:20221216T160000
DTSTAMP:20260420T212226
CREATED:20221030T225116Z
LAST-MODIFIED:20221030T225116Z
UID:1265-1671184800-1671206400@arubazerowaste.com
SUMMARY:Recycle Plastic
DESCRIPTION:Plastic Beach Party needs volunteers to help sort\, cut and wash plastics every Friday. \n  \nSign-up on their website with the contact form at the bottom of the page or WhatsApp 744-7829
URL:https://arubazerowaste.com/event/recycle-plastic-51/
LOCATION:Flemingstraat 26\, Flemingstraat 26\, Aruba
ATTACH;FMTTYPE=image/jpeg:https://arubazerowaste.com/wp-content/uploads/2022/04/WhatsApp-Image-2022-04-01-at-4.07.07-PM.jpeg
END:VEVENT
BEGIN:VEVENT
DTSTART;TZID=UTC:20221210T080000
DTEND;TZID=UTC:20221210T100000
DTSTAMP:20260420T212226
CREATED:20221229T160600Z
LAST-MODIFIED:20221229T160707Z
UID:1310-1670659200-1670666400@arubazerowaste.com
SUMMARY:Beach Clean-up ScubblesBubbles
DESCRIPTION:Volunteers needed for beach clean-up \nIf you are interested\, just show up to Northeast of the California Lighthouse at 8-10 am on December 10th\, 2022. \nBring gloves\, water\, hat\, snack\, and reef safe sunscreen. They will have a water refill station\, buckets and bags. \nhttps://www.facebook.com/ScubbleBubbles
URL:https://arubazerowaste.com/event/beach-clean-up-scubblesbubbles-2/
ATTACH;FMTTYPE=image/jpeg:https://arubazerowaste.com/wp-content/uploads/2022/12/SBBC-12-22.jpg
END:VEVENT
BEGIN:VEVENT
DTSTART;TZID=UTC:20221209T100000
DTEND;TZID=UTC:20221209T160000
DTSTAMP:20260420T212226
CREATED:20221030T225342Z
LAST-MODIFIED:20221030T225342Z
UID:1267-1670580000-1670601600@arubazerowaste.com
SUMMARY:Recycle Plastic
DESCRIPTION:Plastic Beach Party needs volunteers to help sort\, cut and wash plastics every Friday. \n  \nSign-up on their website with the contact form at the bottom of the page or WhatsApp 744-7829
URL:https://arubazerowaste.com/event/recycle-plastic-52/
LOCATION:Flemingstraat 26\, Flemingstraat 26\, Aruba
ATTACH;FMTTYPE=image/jpeg:https://arubazerowaste.com/wp-content/uploads/2022/04/WhatsApp-Image-2022-04-01-at-4.08.51-PM.jpeg
END:VEVENT
BEGIN:VEVENT
DTSTART;TZID=UTC:20221204T100000
DTEND;TZID=UTC:20221204T140000
DTSTAMP:20260420T212226
CREATED:20221108T003629Z
LAST-MODIFIED:20221108T003629Z
UID:1290-1670148000-1670162400@arubazerowaste.com
SUMMARY:Farmer's Market
DESCRIPTION:  \nLocal and sustainable artisans and farmers selling delicious snacks\, juices\, oils\, soaps\, cosmetics\, candles\, herb mixes and art works. \nFirst Sunday of the month\, 10am-2pm at the Ostrich farm
URL:https://arubazerowaste.com/event/farmers-market-14/
LOCATION:Ostrich Farm\, Matividiri 57\, Aruba
ATTACH;FMTTYPE=image/jpeg:https://arubazerowaste.com/wp-content/uploads/2022/11/85254ddf-7c93-4cb1-afeb-a341d160292b.jpg
END:VEVENT
BEGIN:VEVENT
DTSTART;TZID=UTC:20221202T100000
DTEND;TZID=UTC:20221202T160000
DTSTAMP:20260420T212226
CREATED:20221030T224632Z
LAST-MODIFIED:20221030T224632Z
UID:1263-1669975200-1669996800@arubazerowaste.com
SUMMARY:Recycle Plastic
DESCRIPTION:Plastic Beach Party needs volunteers to help sort\, cut and wash plastics every Friday. \n  \nSign-up on their website with the contact form at the bottom of the page or WhatsApp 744-7829
URL:https://arubazerowaste.com/event/recycle-plastic-50/
LOCATION:Flemingstraat 26\, Flemingstraat 26\, Aruba
ATTACH;FMTTYPE=image/jpeg:https://arubazerowaste.com/wp-content/uploads/2022/04/WhatsApp-Image-2022-04-01-at-4.10.06-PM.jpeg
END:VEVENT
BEGIN:VEVENT
DTSTART;TZID=UTC:20221125T100000
DTEND;TZID=UTC:20221125T160000
DTSTAMP:20260420T212226
CREATED:20221030T224524Z
LAST-MODIFIED:20221030T224524Z
UID:1261-1669370400-1669392000@arubazerowaste.com
SUMMARY:Recycle Plastic
DESCRIPTION:Plastic Beach Party needs volunteers to help sort\, cut and wash plastics every Friday. \n  \nSign-up on their website with the contact form at the bottom of the page or WhatsApp 744-7829
URL:https://arubazerowaste.com/event/recycle-plastic-49/
LOCATION:Flemingstraat 26\, Flemingstraat 26\, Aruba
ATTACH;FMTTYPE=image/jpeg:https://arubazerowaste.com/wp-content/uploads/2022/04/WhatsApp-Image-2022-04-01-at-4.06.33-PM.jpeg
END:VEVENT
BEGIN:VEVENT
DTSTART;TZID=UTC:20221118T100000
DTEND;TZID=UTC:20221118T160000
DTSTAMP:20260420T212226
CREATED:20221030T224440Z
LAST-MODIFIED:20221030T224440Z
UID:1259-1668765600-1668787200@arubazerowaste.com
SUMMARY:Recycle Plastic
DESCRIPTION:Plastic Beach Party needs volunteers to help sort\, cut and wash plastics every Friday. \n  \nSign-up on their website with the contact form at the bottom of the page or WhatsApp 744-7829
URL:https://arubazerowaste.com/event/recycle-plastic-48/
LOCATION:Flemingstraat 26\, Flemingstraat 26\, Aruba
ATTACH;FMTTYPE=image/jpeg:https://arubazerowaste.com/wp-content/uploads/2022/04/WhatsApp-Image-2022-04-01-at-4.07.07-PM.jpeg
END:VEVENT
BEGIN:VEVENT
DTSTART;TZID=UTC:20221111T100000
DTEND;TZID=UTC:20221111T160000
DTSTAMP:20260420T212226
CREATED:20220911T110252Z
LAST-MODIFIED:20220911T110252Z
UID:1238-1668160800-1668182400@arubazerowaste.com
SUMMARY:Recycle Plastic
DESCRIPTION:Plastic Beach Party needs volunteers to help sort\, cut and wash plastics every Friday. \n  \nSign-up on their website with the contact form at the bottom of the page or WhatsApp 744-7829
URL:https://arubazerowaste.com/event/recycle-plastic-47/
LOCATION:Flemingstraat 26\, Flemingstraat 26\, Aruba
ATTACH;FMTTYPE=image/jpeg:https://arubazerowaste.com/wp-content/uploads/2022/04/WhatsApp-Image-2022-04-01-at-4.08.51-PM.jpeg
END:VEVENT
BEGIN:VEVENT
DTSTART;TZID=UTC:20221106T100000
DTEND;TZID=UTC:20221106T140000
DTSTAMP:20260420T212226
CREATED:20220911T111709Z
LAST-MODIFIED:20220911T111709Z
UID:1242-1667728800-1667743200@arubazerowaste.com
SUMMARY:Farmer's Market
DESCRIPTION:  \nLocal and sustainable artisans and farmers selling delicious snacks\, juices\, oils\, soaps\, cosmetics\, candles\, herb mixes and art works. \nFirst Sunday of the month\, 10am-2pm at the Ostrich farm
URL:https://arubazerowaste.com/event/farmers-market-12/
LOCATION:Ostrich Farm\, Matividiri 57\, Aruba
ATTACH;FMTTYPE=image/jpeg:https://arubazerowaste.com/wp-content/uploads/2021/09/240743583_4479542938763155_1832003768640043819_n.jpg
END:VEVENT
BEGIN:VEVENT
DTSTART;TZID=UTC:20221105T083000
DTEND;TZID=UTC:20221105T113000
DTSTAMP:20260420T212226
CREATED:20221030T231127Z
LAST-MODIFIED:20221030T231650Z
UID:1269-1667637000-1667647800@arubazerowaste.com
SUMMARY:Sustainable Schools Workshop
DESCRIPTION:A hands on workshop with practical ideas for implementing sustainable practices in kitchens\, gardens and classrooms.
URL:https://arubazerowaste.com/event/sustainable-schools-workshop/
LOCATION:Beautiful Sun Montesori School\, Balashi WEB 6\, Santa Cruz\, Aruba
ATTACH;FMTTYPE=image/jpeg:https://arubazerowaste.com/wp-content/uploads/2022/10/5.jpg
ORGANIZER;CN="Beautiful%20Sun%20Montessori%20School":MAILTO:beautifulsunmontessori@gmail.com
END:VEVENT
BEGIN:VEVENT
DTSTART;TZID=UTC:20221104T100000
DTEND;TZID=UTC:20221104T160000
DTSTAMP:20260420T212226
CREATED:20220911T110014Z
LAST-MODIFIED:20220911T110014Z
UID:1236-1667556000-1667577600@arubazerowaste.com
SUMMARY:Recycle Plastic
DESCRIPTION:Plastic Beach Party needs volunteers to help sort\, cut and wash plastics every Friday. \n  \nSign-up on their website with the contact form at the bottom of the page or WhatsApp 744-7829
URL:https://arubazerowaste.com/event/recycle-plastic-46/
LOCATION:Flemingstraat 26\, Flemingstraat 26\, Aruba
ATTACH;FMTTYPE=image/jpeg:https://arubazerowaste.com/wp-content/uploads/2022/04/WhatsApp-Image-2022-04-01-at-4.10.06-PM.jpeg
END:VEVENT
BEGIN:VEVENT
DTSTART;TZID=UTC:20221028T100000
DTEND;TZID=UTC:20221028T160000
DTSTAMP:20260420T212226
CREATED:20220911T105903Z
LAST-MODIFIED:20220911T105918Z
UID:1233-1666951200-1666972800@arubazerowaste.com
SUMMARY:Recycle Plastic
DESCRIPTION:Plastic Beach Party needs volunteers to help sort\, cut and wash plastics every Friday. \n  \nSign-up on their website with the contact form at the bottom of the page or WhatsApp 744-7829
URL:https://arubazerowaste.com/event/recycle-plastic-45/
LOCATION:Flemingstraat 26\, Flemingstraat 26\, Aruba
ATTACH;FMTTYPE=image/jpeg:https://arubazerowaste.com/wp-content/uploads/2022/04/WhatsApp-Image-2022-04-01-at-4.06.33-PM.jpeg
END:VEVENT
END:VCALENDAR