BEGIN:VCALENDAR
VERSION:2.0
PRODID:-//Zero Waste Aruba - ECPv5.9.1//NONSGML v1.0//EN
CALSCALE:GREGORIAN
METHOD:PUBLISH
X-WR-CALNAME:Zero Waste Aruba
X-ORIGINAL-URL:https://arubazerowaste.com
X-WR-CALDESC:Events for Zero Waste Aruba
BEGIN:VTIMEZONE
TZID:UTC
BEGIN:STANDARD
TZOFFSETFROM:+0000
TZOFFSETTO:+0000
TZNAME:UTC
DTSTART:20220101T000000
END:STANDARD
END:VTIMEZONE
BEGIN:VEVENT
DTSTART;TZID=UTC:20221111T100000
DTEND;TZID=UTC:20221111T160000
DTSTAMP:20260421T055105
CREATED:20220911T110252Z
LAST-MODIFIED:20220911T110252Z
UID:1238-1668160800-1668182400@arubazerowaste.com
SUMMARY:Recycle Plastic
DESCRIPTION:Plastic Beach Party needs volunteers to help sort\, cut and wash plastics every Friday. \n  \nSign-up on their website with the contact form at the bottom of the page or WhatsApp 744-7829
URL:https://arubazerowaste.com/event/recycle-plastic-47/
LOCATION:Flemingstraat 26\, Flemingstraat 26\, Aruba
ATTACH;FMTTYPE=image/jpeg:https://arubazerowaste.com/wp-content/uploads/2022/04/WhatsApp-Image-2022-04-01-at-4.08.51-PM.jpeg
END:VEVENT
BEGIN:VEVENT
DTSTART;TZID=UTC:20221106T100000
DTEND;TZID=UTC:20221106T140000
DTSTAMP:20260421T055105
CREATED:20220911T111709Z
LAST-MODIFIED:20220911T111709Z
UID:1242-1667728800-1667743200@arubazerowaste.com
SUMMARY:Farmer's Market
DESCRIPTION:  \nLocal and sustainable artisans and farmers selling delicious snacks\, juices\, oils\, soaps\, cosmetics\, candles\, herb mixes and art works. \nFirst Sunday of the month\, 10am-2pm at the Ostrich farm
URL:https://arubazerowaste.com/event/farmers-market-12/
LOCATION:Ostrich Farm\, Matividiri 57\, Aruba
ATTACH;FMTTYPE=image/jpeg:https://arubazerowaste.com/wp-content/uploads/2021/09/240743583_4479542938763155_1832003768640043819_n.jpg
END:VEVENT
BEGIN:VEVENT
DTSTART;TZID=UTC:20221105T083000
DTEND;TZID=UTC:20221105T113000
DTSTAMP:20260421T055105
CREATED:20221030T231127Z
LAST-MODIFIED:20221030T231650Z
UID:1269-1667637000-1667647800@arubazerowaste.com
SUMMARY:Sustainable Schools Workshop
DESCRIPTION:A hands on workshop with practical ideas for implementing sustainable practices in kitchens\, gardens and classrooms.
URL:https://arubazerowaste.com/event/sustainable-schools-workshop/
LOCATION:Beautiful Sun Montesori School\, Balashi WEB 6\, Santa Cruz\, Aruba
ATTACH;FMTTYPE=image/jpeg:https://arubazerowaste.com/wp-content/uploads/2022/10/5.jpg
ORGANIZER;CN="Beautiful%20Sun%20Montessori%20School":MAILTO:beautifulsunmontessori@gmail.com
END:VEVENT
BEGIN:VEVENT
DTSTART;TZID=UTC:20221104T100000
DTEND;TZID=UTC:20221104T160000
DTSTAMP:20260421T055105
CREATED:20220911T110014Z
LAST-MODIFIED:20220911T110014Z
UID:1236-1667556000-1667577600@arubazerowaste.com
SUMMARY:Recycle Plastic
DESCRIPTION:Plastic Beach Party needs volunteers to help sort\, cut and wash plastics every Friday. \n  \nSign-up on their website with the contact form at the bottom of the page or WhatsApp 744-7829
URL:https://arubazerowaste.com/event/recycle-plastic-46/
LOCATION:Flemingstraat 26\, Flemingstraat 26\, Aruba
ATTACH;FMTTYPE=image/jpeg:https://arubazerowaste.com/wp-content/uploads/2022/04/WhatsApp-Image-2022-04-01-at-4.10.06-PM.jpeg
END:VEVENT
BEGIN:VEVENT
DTSTART;TZID=UTC:20221028T100000
DTEND;TZID=UTC:20221028T160000
DTSTAMP:20260421T055105
CREATED:20220911T105903Z
LAST-MODIFIED:20220911T105918Z
UID:1233-1666951200-1666972800@arubazerowaste.com
SUMMARY:Recycle Plastic
DESCRIPTION:Plastic Beach Party needs volunteers to help sort\, cut and wash plastics every Friday. \n  \nSign-up on their website with the contact form at the bottom of the page or WhatsApp 744-7829
URL:https://arubazerowaste.com/event/recycle-plastic-45/
LOCATION:Flemingstraat 26\, Flemingstraat 26\, Aruba
ATTACH;FMTTYPE=image/jpeg:https://arubazerowaste.com/wp-content/uploads/2022/04/WhatsApp-Image-2022-04-01-at-4.06.33-PM.jpeg
END:VEVENT
BEGIN:VEVENT
DTSTART;TZID=UTC:20221021T100000
DTEND;TZID=UTC:20221021T160000
DTSTAMP:20260421T055105
CREATED:20220911T105806Z
LAST-MODIFIED:20220911T105806Z
UID:1231-1666346400-1666368000@arubazerowaste.com
SUMMARY:Recycle Plastic
DESCRIPTION:Plastic Beach Party needs volunteers to help sort\, cut and wash plastics every Friday. \n  \nSign-up on their website with the contact form at the bottom of the page or whatsapp 744-7829
URL:https://arubazerowaste.com/event/recycle-plastic-44/
LOCATION:Flemingstraat 26\, Flemingstraat 26\, Aruba
ATTACH;FMTTYPE=image/jpeg:https://arubazerowaste.com/wp-content/uploads/2022/04/WhatsApp-Image-2022-04-01-at-4.07.07-PM.jpeg
END:VEVENT
BEGIN:VEVENT
DTSTART;TZID=UTC:20221014T100000
DTEND;TZID=UTC:20221014T160000
DTSTAMP:20260421T055105
CREATED:20220911T105717Z
LAST-MODIFIED:20220911T105717Z
UID:1229-1665741600-1665763200@arubazerowaste.com
SUMMARY:Recycle Plastic
DESCRIPTION:Plastic Beach Party needs volunteers to help sort\, cut and wash plastics every Friday. \n  \nSign-up on their website with the contact form at the bottom of the page or whatsapp 744-7829
URL:https://arubazerowaste.com/event/recycle-plastic-43/
LOCATION:Flemingstraat 26\, Flemingstraat 26\, Aruba
ATTACH;FMTTYPE=image/jpeg:https://arubazerowaste.com/wp-content/uploads/2022/04/WhatsApp-Image-2022-04-01-at-4.08.51-PM.jpeg
END:VEVENT
BEGIN:VEVENT
DTSTART;TZID=UTC:20221007T100000
DTEND;TZID=UTC:20221007T160000
DTSTAMP:20260421T055105
CREATED:20220911T105524Z
LAST-MODIFIED:20220911T105624Z
UID:1226-1665136800-1665158400@arubazerowaste.com
SUMMARY:Recycle Plastic
DESCRIPTION:Plastic Beach Party needs volunteers to help sort\, cut and wash plastics every Friday. \n  \nSign-up on their website with the contact form at the bottom of the page or whatsapp 744-7829
URL:https://arubazerowaste.com/event/recycle-plastic-42/
LOCATION:Flemingstraat 26\, Flemingstraat 26\, Aruba
ATTACH;FMTTYPE=image/jpeg:https://arubazerowaste.com/wp-content/uploads/2022/04/WhatsApp-Image-2022-04-01-at-4.10.06-PM.jpeg
END:VEVENT
BEGIN:VEVENT
DTSTART;TZID=UTC:20221002T100000
DTEND;TZID=UTC:20221002T140000
DTSTAMP:20260421T055105
CREATED:20220803T095334Z
LAST-MODIFIED:20220803T095334Z
UID:1198-1664704800-1664719200@arubazerowaste.com
SUMMARY:Farmer's Market
DESCRIPTION:  \nLocal and sustainable artisans and farmers selling delicious snacks\, juices\, oils\, soaps\, cosmetics\, candles\, herb mixes and art works. \nFirst Sunday of the month\, 10am-2pm at the Ostrich farm
URL:https://arubazerowaste.com/event/farmers-market-10/
LOCATION:Ostrich Farm\, Matividiri 57\, Aruba
ATTACH;FMTTYPE=image/jpeg:https://arubazerowaste.com/wp-content/uploads/2021/09/240743583_4479542938763155_1832003768640043819_n.jpg
END:VEVENT
BEGIN:VEVENT
DTSTART;TZID=UTC:20220930T100000
DTEND;TZID=UTC:20220930T160000
DTSTAMP:20260421T055105
CREATED:20220803T095112Z
LAST-MODIFIED:20220803T095112Z
UID:1196-1664532000-1664553600@arubazerowaste.com
SUMMARY:Recycle Plastic
DESCRIPTION:Plastic Beach Party needs volunteers to help sort\, cut and wash plastics every Friday. \n  \nSign-up on their website with the contact form at the bottom of the page.
URL:https://arubazerowaste.com/event/recycle-plastic-41/
LOCATION:Flemingstraat 26\, Flemingstraat 26\, Aruba
ATTACH;FMTTYPE=image/jpeg:https://arubazerowaste.com/wp-content/uploads/2022/04/WhatsApp-Image-2022-04-01-at-4.08.51-PM.jpeg
END:VEVENT
BEGIN:VEVENT
DTSTART;TZID=UTC:20220925T080000
DTEND;TZID=UTC:20220925T130000
DTSTAMP:20260421T055105
CREATED:20220911T112102Z
LAST-MODIFIED:20220911T221755Z
UID:1244-1664092800-1664110800@arubazerowaste.com
SUMMARY:Farmer's market
DESCRIPTION:Farmer’s market at Santa Rosa. Fresh meats\, fruits and vegetables
URL:https://arubazerowaste.com/event/farmers-market-13/
LOCATION:Santa Rosa\, Piedra Plat 114-A\,\, Piedra Plat\, Aruba
ATTACH;FMTTYPE=image/jpeg:https://arubazerowaste.com/wp-content/uploads/2022/09/santa-rosa-market-1f296d7f-4b04-4523-a316-3ce8d2549201.jpg
ORGANIZER;CN="Santa%20Rosa":MAILTO:info@santarosa.aw
END:VEVENT
BEGIN:VEVENT
DTSTART;TZID=UTC:20220923T180000
DTEND;TZID=UTC:20220923T190000
DTSTAMP:20260421T055105
CREATED:20220921T093108Z
LAST-MODIFIED:20220921T093108Z
UID:1252-1663956000-1663959600@arubazerowaste.com
SUMMARY:Information night for Trash to Cash
DESCRIPTION:Date: 23rd of September\, 2022\nLuga: Simeon Antonio Sports Complex\nTime: 6:00 PM – 7:00 PM\nInformation night for Trash to Cash
URL:https://arubazerowaste.com/event/information-night-for-trash-to-cash/
ATTACH;FMTTYPE=image/jpeg:https://arubazerowaste.com/wp-content/uploads/2022/09/WhatsApp-Image-2022-09-21-at-4.55.46-AM.jpeg
ORGANIZER;CN="Trash2Cash":MAILTO:INFO@TRASHTOCASHARUBA.ORG
END:VEVENT
BEGIN:VEVENT
DTSTART;TZID=UTC:20220923T100000
DTEND;TZID=UTC:20220923T160000
DTSTAMP:20260421T055105
CREATED:20220803T095032Z
LAST-MODIFIED:20220803T095032Z
UID:1194-1663927200-1663948800@arubazerowaste.com
SUMMARY:Recycle Plastic
DESCRIPTION:Plastic Beach Party needs volunteers to help sort\, cut and wash plastics every Friday. \n  \nSign-up on their website with the contact form at the bottom of the page.
URL:https://arubazerowaste.com/event/recycle-plastic-40/
LOCATION:Flemingstraat 26\, Flemingstraat 26\, Aruba
ATTACH;FMTTYPE=image/jpeg:https://arubazerowaste.com/wp-content/uploads/2022/04/WhatsApp-Image-2022-04-01-at-4.06.33-PM.jpeg
END:VEVENT
BEGIN:VEVENT
DTSTART;TZID=UTC:20220916T100000
DTEND;TZID=UTC:20220916T160000
DTSTAMP:20260421T055105
CREATED:20220803T094951Z
LAST-MODIFIED:20220803T094951Z
UID:1192-1663322400-1663344000@arubazerowaste.com
SUMMARY:Recycle Plastic
DESCRIPTION:Plastic Beach Party needs volunteers to help sort\, cut and wash plastics every Friday. \n  \nSign-up on their website with the contact form at the bottom of the page.
URL:https://arubazerowaste.com/event/recycle-plastic-39/
LOCATION:Flemingstraat 26\, Flemingstraat 26\, Aruba
ATTACH;FMTTYPE=image/jpeg:https://arubazerowaste.com/wp-content/uploads/2022/04/WhatsApp-Image-2022-04-01-at-4.07.07-PM.jpeg
END:VEVENT
BEGIN:VEVENT
DTSTART;TZID=UTC:20220911T080000
DTEND;TZID=UTC:20220911T100000
DTSTAMP:20260421T055105
CREATED:20220910T113159Z
LAST-MODIFIED:20220910T143125Z
UID:1216-1662883200-1662890400@arubazerowaste.com
SUMMARY:Beach Clean-up ScubblesBubbles
DESCRIPTION:Volunteers needed for beach clean-up \nIf you are interested\, just show up to North of Grapefield Beach at 8-10 am on September 11th\, 2022. \nBring gloves\, water\, hat\, snack\, and reef safe sunscreen. \nhttps://www.facebook.com/ScubbleBubbles
URL:https://arubazerowaste.com/event/beach-clean-up-scubblesbubbles/
ATTACH;FMTTYPE=image/jpeg:https://arubazerowaste.com/wp-content/uploads/2022/09/scubbles-bubbles-sept.jpg
END:VEVENT
BEGIN:VEVENT
DTSTART;TZID=UTC:20220910T100000
DTEND;TZID=UTC:20220910T123000
DTSTAMP:20260421T055105
CREATED:20220830T003851Z
LAST-MODIFIED:20220830T003851Z
UID:1205-1662804000-1662813000@arubazerowaste.com
SUMMARY:Paint and Plant
DESCRIPTION:Hungateca-Play Library at the YMCA in San Nicolas is having a paint and plant workshop for children ages 5 and up \nChildren ages 5-9 are welcome to join 10am-11am \nChildren ages 10+are welcome to join 11:30am-12:30pm \nSeptember 3rd will be painting the tin and September 10th will be planting in the painted tins. \nCost for Members of Hungateca are 3fl and for non-members its 5fl. \nSend an e-mail to reserve your place at Hungateca@outlook.com
URL:https://arubazerowaste.com/event/paint-and-plant/
ATTACH;FMTTYPE=image/png:https://arubazerowaste.com/wp-content/uploads/2022/08/image_2022-08-29_203400502.png
END:VEVENT
BEGIN:VEVENT
DTSTART;TZID=UTC:20220910T080000
DTEND;TZID=UTC:20220910T100000
DTSTAMP:20260421T055105
CREATED:20220910T143552Z
LAST-MODIFIED:20220910T143626Z
UID:1219-1662796800-1662804000@arubazerowaste.com
SUMMARY:Tree Planting Event
DESCRIPTION:8am-10am \n‘Ban Lanta y Planta – Trees for Aruba’ is hosting their next Tree-Planting Event at their Reforestation site in Noord. Want to help?\nBring a shovel\, gloves\, wear a hat and put on some sunscreen! We provide the trees to be planted\, all local. There will be cool water and some snacks\, bring your own cup. \nhttps://www.facebook.com/events/369262718564747?ref=newsfeed
URL:https://arubazerowaste.com/event/tree-planting-event/
ATTACH;FMTTYPE=image/jpeg:https://arubazerowaste.com/wp-content/uploads/2022/09/BLyP-sept-2022.jpg
END:VEVENT
BEGIN:VEVENT
DTSTART;TZID=UTC:20220909T100000
DTEND;TZID=UTC:20220909T160000
DTSTAMP:20260421T055105
CREATED:20220803T094909Z
LAST-MODIFIED:20220803T094909Z
UID:1190-1662717600-1662739200@arubazerowaste.com
SUMMARY:Recycle Plastic
DESCRIPTION:Plastic Beach Party needs volunteers to help sort\, cut and wash plastics every Friday. \n  \nSign-up on their website with the contact form at the bottom of the page.
URL:https://arubazerowaste.com/event/recycle-plastic-38/
LOCATION:Flemingstraat 26\, Flemingstraat 26\, Aruba
ATTACH;FMTTYPE=image/jpeg:https://arubazerowaste.com/wp-content/uploads/2022/04/WhatsApp-Image-2022-04-01-at-4.08.51-PM.jpeg
END:VEVENT
BEGIN:VEVENT
DTSTART;TZID=UTC:20220908T183000
DTEND;TZID=UTC:20220908T200000
DTSTAMP:20260421T055105
CREATED:20220830T004407Z
LAST-MODIFIED:20220830T004447Z
UID:1208-1662661800-1662667200@arubazerowaste.com
SUMMARY:SDG Breakout Session
DESCRIPTION:Calling all Goalkeepers\, SDG Huggers\, Supporters of\nGreat Causes and Aruba’s Community.\nIt’s been a while right? \nWe are back with our monthly #SDGBreakout Session.\nSeptember 8th\, 2022 starting at 6.30pm\nLocation Noord 36B. \n*Program Outline:\n1.SDG Introduction and Breakout Session Season 2.0\n2. We will ve talking about the importance of Waste Water Recycling Projects\n3. The Beauty of Renewable Energy for Community.\n4. SDG – Entrepreneurship\nB-Energy Vince Solognier & B-Aruba Movement\nRick Banwarie \nJoin the #BAZRRRMovement RSVP your attendance at 5641102
URL:https://arubazerowaste.com/event/1208/
LOCATION:B Energy\, Noord 36B\, Noord\, Aruba
ATTACH;FMTTYPE=image/jpeg:https://arubazerowaste.com/wp-content/uploads/2022/08/WhatsApp-Image-2022-08-26-at-11.10.53-AM.jpeg
END:VEVENT
BEGIN:VEVENT
DTSTART;TZID=UTC:20220904T100000
DTEND;TZID=UTC:20220904T140000
DTSTAMP:20260421T055105
CREATED:20220803T095454Z
LAST-MODIFIED:20220803T095518Z
UID:1200-1662285600-1662300000@arubazerowaste.com
SUMMARY:Farmer's Market
DESCRIPTION:https://www.facebook.com/arubaostrichfarm
URL:https://arubazerowaste.com/event/farmers-market-11/
LOCATION:Ostrich Farm\, Matividiri 57\, Aruba
ATTACH;FMTTYPE=image/jpeg:https://arubazerowaste.com/wp-content/uploads/2021/09/240743583_4479542938763155_1832003768640043819_n.jpg
END:VEVENT
BEGIN:VEVENT
DTSTART;TZID=UTC:20220902T100000
DTEND;TZID=UTC:20220902T160000
DTSTAMP:20260421T055105
CREATED:20220803T094826Z
LAST-MODIFIED:20220803T094826Z
UID:1188-1662112800-1662134400@arubazerowaste.com
SUMMARY:Recycle Plastic
DESCRIPTION:Plastic Beach Party needs volunteers to help sort\, cut and wash plastics every Friday. \n  \nSign-up on their website with the contact form at the bottom of the page.
URL:https://arubazerowaste.com/event/recycle-plastic-37/
LOCATION:Flemingstraat 26\, Flemingstraat 26\, Aruba
ATTACH;FMTTYPE=image/jpeg:https://arubazerowaste.com/wp-content/uploads/2022/04/WhatsApp-Image-2022-04-01-at-4.10.06-PM.jpeg
END:VEVENT
BEGIN:VEVENT
DTSTART;TZID=UTC:20220826T100000
DTEND;TZID=UTC:20220826T160000
DTSTAMP:20260421T055105
CREATED:20220802T152910Z
LAST-MODIFIED:20220802T152919Z
UID:1181-1661508000-1661529600@arubazerowaste.com
SUMMARY:Recycle Plastic
DESCRIPTION:Plastic Beach Party needs volunteers to help sort\, cut and wash plastics every Friday. \n  \nSign-up on their website with the contact form at the bottom of the page.
URL:https://arubazerowaste.com/event/recycle-plastic-36/
LOCATION:Flemingstraat 26\, Flemingstraat 26\, Aruba
ATTACH;FMTTYPE=image/jpeg:https://arubazerowaste.com/wp-content/uploads/2022/04/WhatsApp-Image-2022-04-01-at-4.10.06-PM.jpeg
END:VEVENT
BEGIN:VEVENT
DTSTART;TZID=UTC:20220819T100000
DTEND;TZID=UTC:20220819T160000
DTSTAMP:20260421T055105
CREATED:20220802T152747Z
LAST-MODIFIED:20220802T152747Z
UID:1179-1660903200-1660924800@arubazerowaste.com
SUMMARY:Recycle Plastic
DESCRIPTION:Plastic Beach Party needs volunteers to help sort\, cut and wash plastics every Friday. \n  \nSign-up on their website with the contact form at the bottom of the page.
URL:https://arubazerowaste.com/event/recycle-plastic-35/
LOCATION:Flemingstraat 26\, Flemingstraat 26\, Aruba
ATTACH;FMTTYPE=image/jpeg:https://arubazerowaste.com/wp-content/uploads/2022/04/WhatsApp-Image-2022-04-01-at-4.08.51-PM.jpeg
END:VEVENT
BEGIN:VEVENT
DTSTART;TZID=UTC:20220812T100000
DTEND;TZID=UTC:20220812T160000
DTSTAMP:20260421T055105
CREATED:20220802T152621Z
LAST-MODIFIED:20220802T152653Z
UID:1177-1660298400-1660320000@arubazerowaste.com
SUMMARY:Recycle Plastic
DESCRIPTION:Plastic Beach Party needs volunteers to help sort\, cut and wash plastics every Friday. \n  \nSign-up on their website with the contact form at the bottom of the page.
URL:https://arubazerowaste.com/event/recycle-plastic-34/
LOCATION:Flemingstraat 26\, Flemingstraat 26\, Aruba
ATTACH;FMTTYPE=image/jpeg:https://arubazerowaste.com/wp-content/uploads/2022/04/WhatsApp-Image-2022-04-01-at-4.07.07-PM.jpeg
END:VEVENT
BEGIN:VEVENT
DTSTART;TZID=UTC:20220810T190000
DTEND;TZID=UTC:20220810T190000
DTSTAMP:20260421T055105
CREATED:20220802T152125Z
LAST-MODIFIED:20220802T152215Z
UID:1170-1660158000-1660158000@arubazerowaste.com
SUMMARY:Agriculture for women
DESCRIPTION:August 10th at 7pm at Biblioteca Nacional. \nUniting women in Agriculture. \nFor more information whataspp +5-999-520-0282
URL:https://arubazerowaste.com/event/agriculture-for-women/
LOCATION:Biblioteca Nacional\, George Madurostraat 13\, Oranjestad\, Aruba
ATTACH;FMTTYPE=image/jpeg:https://arubazerowaste.com/wp-content/uploads/2022/08/WhatsApp-Image-2022-07-26-at-8.29.14-AM.jpeg
END:VEVENT
BEGIN:VEVENT
DTSTART;TZID=UTC:20220807T100000
DTEND;TZID=UTC:20220807T140000
DTSTAMP:20260421T055105
CREATED:20220701T125630Z
LAST-MODIFIED:20220701T125630Z
UID:1151-1659866400-1659880800@arubazerowaste.com
SUMMARY:Farmer's Market
DESCRIPTION:  \nLocal and sustainable artisans and farmers selling delicious snacks\, juices\, oils\, soaps\, cosmetics\, candles\, herb mixes and art works. \nFirst Sunday of the month\, 10am-2pm at the Ostrich farm
URL:https://arubazerowaste.com/event/farmers-market-9/
LOCATION:Ostrich Farm\, Matividiri 57\, Aruba
ATTACH;FMTTYPE=image/jpeg:https://arubazerowaste.com/wp-content/uploads/2021/09/240743583_4479542938763155_1832003768640043819_n.jpg
END:VEVENT
BEGIN:VEVENT
DTSTART;TZID=UTC:20220805T100000
DTEND;TZID=UTC:20220805T160000
DTSTAMP:20260421T055105
CREATED:20220802T152327Z
LAST-MODIFIED:20220802T152327Z
UID:1175-1659693600-1659715200@arubazerowaste.com
SUMMARY:Recycle Plastic
DESCRIPTION:Plastic Beach Party needs volunteers to help sort\, cut and wash plastics every Friday. \n  \nSign-up on their website with the contact form at the bottom of the page.
URL:https://arubazerowaste.com/event/recycle-plastic-33/
LOCATION:Flemingstraat 26\, Flemingstraat 26\, Aruba
ATTACH;FMTTYPE=image/jpeg:https://arubazerowaste.com/wp-content/uploads/2022/04/WhatsApp-Image-2022-04-01-at-4.06.33-PM.jpeg
END:VEVENT
BEGIN:VEVENT
DTSTART;TZID=UTC:20220729T100000
DTEND;TZID=UTC:20220729T160000
DTSTAMP:20260421T055105
CREATED:20220701T184023Z
LAST-MODIFIED:20220701T184023Z
UID:1163-1659088800-1659110400@arubazerowaste.com
SUMMARY:Recycle Plastic
DESCRIPTION:Plastic Beach Party needs volunteers to help sort\, cut and wash plastics every Friday. \n  \nSign-up on their website with the contact form at the bottom of the page.
URL:https://arubazerowaste.com/event/recycle-plastic-32/
LOCATION:Flemingstraat 26\, Flemingstraat 26\, Aruba
ATTACH;FMTTYPE=image/jpeg:https://arubazerowaste.com/wp-content/uploads/2022/04/WhatsApp-Image-2022-04-01-at-4.08.51-PM.jpeg
END:VEVENT
BEGIN:VEVENT
DTSTART;TZID=UTC:20220724T080000
DTEND;TZID=UTC:20220724T100000
DTSTAMP:20260421T055105
CREATED:20220718T224933Z
LAST-MODIFIED:20220718T224933Z
UID:1168-1658649600-1658656800@arubazerowaste.com
SUMMARY:Beach Clean Up
DESCRIPTION:Volunteers needed for beach clean-up \nIf you are interested\, just show up south of West Punt Beach behind the California Light house at 8 am on July 24th\, 2022. \nBring gloves\, water\, hat\, snack\, and reef safe sunscreen. \nhttps://www.facebook.com/ScubbleBubbles
URL:https://arubazerowaste.com/event/beach-clean-up-2/
END:VEVENT
BEGIN:VEVENT
DTSTART;TZID=UTC:20220723T110000
DTEND;TZID=UTC:20220723T140000
DTSTAMP:20260421T055105
CREATED:20220802T153511Z
LAST-MODIFIED:20220802T153535Z
UID:1183-1658574000-1658584800@arubazerowaste.com
SUMMARY:Garage Sale
DESCRIPTION:Garage Sale at the Zero Waste Spot July 23rd 11am-2pm
URL:https://arubazerowaste.com/event/garage-sale/
LOCATION:Zero Waste Spot\, Caya Ernesto Petronia 26\, Oranjestad\, Aruba
ATTACH;FMTTYPE=image/jpeg:https://arubazerowaste.com/wp-content/uploads/2022/08/WhatsApp-Image-2022-07-19-at-2.23.14-PM-1.jpeg
END:VEVENT
END:VCALENDAR