BEGIN:VCALENDAR
VERSION:2.0
PRODID:-//Zero Waste Aruba - ECPv5.9.1//NONSGML v1.0//EN
CALSCALE:GREGORIAN
METHOD:PUBLISH
X-WR-CALNAME:Zero Waste Aruba
X-ORIGINAL-URL:https://arubazerowaste.com
X-WR-CALDESC:Events for Zero Waste Aruba
BEGIN:VTIMEZONE
TZID:UTC
BEGIN:STANDARD
TZOFFSETFROM:+0000
TZOFFSETTO:+0000
TZNAME:UTC
DTSTART:20230101T000000
END:STANDARD
END:VTIMEZONE
BEGIN:VEVENT
DTSTART;TZID=UTC:20230527T090000
DTEND;TZID=UTC:20230527T110000
DTSTAMP:20260420T204536
CREATED:20230411T143232Z
LAST-MODIFIED:20230411T143255Z
UID:1450-1685178000-1685185200@arubazerowaste.com
SUMMARY:Farmer's Market 297 Farms
DESCRIPTION:Saturday March 4th we are open from 9am to 11am. Savaneta 173 (Road to Jara football field)\n\n\nWe will have: Lettuce\, Cucumbers\, Eggs\, and mushrooms’ available to buy.\n\n\nCash only and remember to bring you bag.\n\n\nThank you for the continues support.
URL:https://arubazerowaste.com/event/farmers-market-297-farms-11/
LOCATION:297 Farms\, Savaneta 173\, Savaneta\, Aruba
ATTACH;FMTTYPE=image/jpeg:https://arubazerowaste.com/wp-content/uploads/2023/02/297-farms.jpg
ORGANIZER;CN="297%20Farms":MAILTO:info@297farm.com
END:VEVENT
BEGIN:VEVENT
DTSTART;TZID=UTC:20230526T100000
DTEND;TZID=UTC:20230526T160000
DTSTAMP:20260420T204536
CREATED:20230411T142336Z
LAST-MODIFIED:20230411T142336Z
UID:1436-1685095200-1685116800@arubazerowaste.com
SUMMARY:Recycle Plastic
DESCRIPTION:Plastic Beach Party needs volunteers to help sort\, cut and wash plastics every Friday. (Other day’s and times are available\, just ask) \n  \nSign up via recycle@plasticbeachparty.com or 297-744-7829
URL:https://arubazerowaste.com/event/recycle-plastic-72/
LOCATION:Flemingstraat 26\, Flemingstraat 26\, Aruba
ATTACH;FMTTYPE=image/jpeg:https://arubazerowaste.com/wp-content/uploads/2022/04/WhatsApp-Image-2022-04-01-at-4.10.06-PM.jpeg
END:VEVENT
BEGIN:VEVENT
DTSTART;TZID=UTC:20230520T090000
DTEND;TZID=UTC:20230520T120000
DTSTAMP:20260420T204536
CREATED:20230411T145806Z
LAST-MODIFIED:20230411T145806Z
UID:1467-1684573200-1684584000@arubazerowaste.com
SUMMARY:Farmer's Market STR Agriculture
DESCRIPTION:Our Farmer’s Market is coming up and we are excited to share with you a variety of fresh and delicious vegetables and fruits!\nWe are waiting for you every Saturday from 9 a.m. to 12 p.m. at our local market located at Alto Vista Z/N.\nDon’t miss the opportunity to enjoy fresh and healthy products directly from our local farmers. In addition\, they will be able to meet and talk with the producers\, learn more about how vegetables and fruits are grown\, and discover new ways of preparing them.
URL:https://arubazerowaste.com/event/farmers-market-str-agriculture-14/
LOCATION:STR Agriculture\, Alto Vista Z/N\, Noord\, Aruba
ATTACH;FMTTYPE=image/jpeg:https://arubazerowaste.com/wp-content/uploads/2023/02/STR-every-Sat.jpg
ORGANIZER;CN="STR%20Agriculture":MAILTO:info@stragriculture.com
END:VEVENT
BEGIN:VEVENT
DTSTART;TZID=UTC:20230520T090000
DTEND;TZID=UTC:20230520T110000
DTSTAMP:20260420T204536
CREATED:20230411T143342Z
LAST-MODIFIED:20230411T143342Z
UID:1452-1684573200-1684580400@arubazerowaste.com
SUMMARY:Farmer's Market 297 Farms
DESCRIPTION:Saturday March 4th we are open from 9am to 11am. Savaneta 173 (Road to Jara football field)\n\n\nWe will have: Lettuce\, Cucumbers\, Eggs\, and mushrooms’ available to buy.\n\n\nCash only and remember to bring you bag.\n\n\nThank you for the continues support.
URL:https://arubazerowaste.com/event/farmers-market-297-farms-12/
LOCATION:297 Farms\, Savaneta 173\, Savaneta\, Aruba
ATTACH;FMTTYPE=image/jpeg:https://arubazerowaste.com/wp-content/uploads/2023/02/297-farms.jpg
ORGANIZER;CN="297%20Farms":MAILTO:info@297farm.com
END:VEVENT
BEGIN:VEVENT
DTSTART;TZID=UTC:20230519T100000
DTEND;TZID=UTC:20230519T160000
DTSTAMP:20260420T204536
CREATED:20230411T142239Z
LAST-MODIFIED:20230411T142239Z
UID:1434-1684490400-1684512000@arubazerowaste.com
SUMMARY:Recycle Plastic
DESCRIPTION:Plastic Beach Party needs volunteers to help sort\, cut and wash plastics every Friday. (Other day’s and times are available\, just ask) \n  \nSign up via recycle@plasticbeachparty.com or 297-744-7829
URL:https://arubazerowaste.com/event/recycle-plastic-71/
LOCATION:Flemingstraat 26\, Flemingstraat 26\, Aruba
ATTACH;FMTTYPE=image/jpeg:https://arubazerowaste.com/wp-content/uploads/2022/04/WhatsApp-Image-2022-04-01-at-4.08.51-PM.jpeg
END:VEVENT
BEGIN:VEVENT
DTSTART;TZID=UTC:20230513T090000
DTEND;TZID=UTC:20230513T110000
DTSTAMP:20260420T204536
CREATED:20230411T143146Z
LAST-MODIFIED:20230411T143146Z
UID:1448-1683968400-1683975600@arubazerowaste.com
SUMMARY:Farmer's Market 279 Farms
DESCRIPTION:Saturday March 4th we are open from 9am to 11am. Savaneta 173 (Road to Jara football field)\n\n\nWe will have: Lettuce\, Cucumbers\, Eggs\, and mushrooms’ available to buy.\n\n\nCash only and remember to bring you bag.\n\n\nThank you for the continues support.
URL:https://arubazerowaste.com/event/farmers-market-279-farms/
LOCATION:297 Farms\, Savaneta 173\, Savaneta\, Aruba
ATTACH;FMTTYPE=image/jpeg:https://arubazerowaste.com/wp-content/uploads/2023/02/297-farms.jpg
ORGANIZER;CN="297%20Farms":MAILTO:info@297farm.com
END:VEVENT
BEGIN:VEVENT
DTSTART;TZID=UTC:20230513T080000
DTEND;TZID=UTC:20230513T170000
DTSTAMP:20260420T204536
CREATED:20230411T145225Z
LAST-MODIFIED:20230411T145225Z
UID:1463-1683964800-1683997200@arubazerowaste.com
SUMMARY:Farmer's Market STR Agriculture
DESCRIPTION:Our Farmer’s Market is coming up and we are excited to share with you a variety of fresh and delicious vegetables and fruits!\nWe are waiting for you every Saturday from 9 a.m. to 12 p.m. at our local market located at Alto Vista Z/N.\nDon’t miss the opportunity to enjoy fresh and healthy products directly from our local farmers. In addition\, they will be able to meet and talk with the producers\, learn more about how vegetables and fruits are grown\, and discover new ways of preparing them.
URL:https://arubazerowaste.com/event/farmers-market-str-agriculture-12/
LOCATION:STR Agriculture\, Alto Vista Z/N\, Noord\, Aruba
ATTACH;FMTTYPE=image/jpeg:https://arubazerowaste.com/wp-content/uploads/2023/02/STR-every-Sat.jpg
ORGANIZER;CN="STR%20Agriculture":MAILTO:info@stragriculture.com
END:VEVENT
BEGIN:VEVENT
DTSTART;TZID=UTC:20230512T100000
DTEND;TZID=UTC:20230512T160000
DTSTAMP:20260420T204536
CREATED:20230411T142142Z
LAST-MODIFIED:20230411T142142Z
UID:1432-1683885600-1683907200@arubazerowaste.com
SUMMARY:Recycle Plastic
DESCRIPTION:Plastic Beach Party needs volunteers to help sort\, cut and wash plastics every Friday. (Other day’s and times are available\, just ask) \n  \nSign up via recycle@plasticbeachparty.com or 297-744-7829
URL:https://arubazerowaste.com/event/recycle-plastic-70/
LOCATION:Flemingstraat 26\, Flemingstraat 26\, Aruba
ATTACH;FMTTYPE=image/jpeg:https://arubazerowaste.com/wp-content/uploads/2022/04/WhatsApp-Image-2022-04-01-at-4.07.07-PM.jpeg
END:VEVENT
BEGIN:VEVENT
DTSTART;VALUE=DATE:20230510
DTEND;VALUE=DATE:20230513
DTSTAMP:20260420T204536
CREATED:20230411T130856Z
LAST-MODIFIED:20230411T130856Z
UID:1422-1683676800-1683935999@arubazerowaste.com
SUMMARY:Caribbean Climate & Energy Conference (CCEC) on Aruba
DESCRIPTION:The Netherlands and Aruba want to encourage cooperation on climate action between small islands world-wide.\nFrom the 10th to the 12th of May they will be organizing the first Caribbean Climate & Energy Conference (CCEC) on Aruba \nhttps://bes-reporter.com/the-netherlands-and-aruba-are-organizing-a-climate-conference-on-aruba/?fbclid=IwAR2HkmVKIBCq928TxI8XSApOWPf5CR5rhFHzgTb9iz4oMeePHPVevp0hrq8
URL:https://arubazerowaste.com/event/caribbean-climate-energy-conference-ccec-on-aruba/
END:VEVENT
BEGIN:VEVENT
DTSTART;TZID=UTC:20230507T100000
DTEND;TZID=UTC:20230507T140000
DTSTAMP:20260420T204536
CREATED:20230411T151549Z
LAST-MODIFIED:20230411T151549Z
UID:1471-1683453600-1683468000@arubazerowaste.com
SUMMARY:Farmer's Market Ostrich Farm
DESCRIPTION:  \nLocal and sustainable artisans and farmers selling delicious snacks\, juices\, oils\, soaps\, cosmetics\, candles\, herb mixes and art works. \nFirst Sunday of the month\, 10am-2pm at the Ostrich farm
URL:https://arubazerowaste.com/event/farmers-market-ostrich-farm-2/
LOCATION:Ostrich Farm\, Matividiri 57\, Aruba
ATTACH;FMTTYPE=image/jpeg:https://arubazerowaste.com/wp-content/uploads/2022/12/FM-11-22.jpg
END:VEVENT
BEGIN:VEVENT
DTSTART;TZID=UTC:20230507T090000
DTEND;TZID=UTC:20230507T140000
DTSTAMP:20260420T204536
CREATED:20230506T115019Z
LAST-MODIFIED:20230506T115019Z
UID:1536-1683450000-1683468000@arubazerowaste.com
SUMMARY:Farmer's Market- Santa Rosa
DESCRIPTION:Sunday 9am-2pm Santa Rosa will have a Pop-Up Farmer’s Market!
URL:https://arubazerowaste.com/event/farmers-market-santa-rosa/
LOCATION:Santa Rosa\, Piedra Plat 114-A\,\, Piedra Plat\, Aruba
ORGANIZER;CN="Santa%20Rosa":MAILTO:info@santarosa.aw
END:VEVENT
BEGIN:VEVENT
DTSTART;TZID=UTC:20230506T090000
DTEND;TZID=UTC:20230506T120000
DTSTAMP:20260420T204536
CREATED:20230411T145136Z
LAST-MODIFIED:20230411T145136Z
UID:1461-1683363600-1683374400@arubazerowaste.com
SUMMARY:Farmer's Market STR Agriculture
DESCRIPTION:Our Farmer’s Market is coming up and we are excited to share with you a variety of fresh and delicious vegetables and fruits!\nWe are waiting for you every Saturday from 9 a.m. to 12 p.m. at our local market located at Alto Vista Z/N.\nDon’t miss the opportunity to enjoy fresh and healthy products directly from our local farmers. In addition\, they will be able to meet and talk with the producers\, learn more about how vegetables and fruits are grown\, and discover new ways of preparing them.
URL:https://arubazerowaste.com/event/farmers-market-str-agriculture-11/
LOCATION:STR Agriculture\, Alto Vista Z/N\, Noord\, Aruba
ATTACH;FMTTYPE=image/jpeg:https://arubazerowaste.com/wp-content/uploads/2023/02/STR-every-Sat.jpg
ORGANIZER;CN="STR%20Agriculture":MAILTO:info@stragriculture.com
END:VEVENT
BEGIN:VEVENT
DTSTART;TZID=UTC:20230506T090000
DTEND;TZID=UTC:20230506T110000
DTSTAMP:20260420T204536
CREATED:20230411T143052Z
LAST-MODIFIED:20230411T143052Z
UID:1446-1683363600-1683370800@arubazerowaste.com
SUMMARY:Farmer's Market 297 Farms
DESCRIPTION:Saturday March 4th we are open from 9am to 11am. Savaneta 173 (Road to Jara football field)\n\n\nWe will have: Lettuce\, Cucumbers\, Eggs\, and mushrooms’ available to buy.\n\n\nCash only and remember to bring you bag.\n\n\nThank you for the continues support.
URL:https://arubazerowaste.com/event/farmers-market-297-farms-10/
LOCATION:297 Farms\, Savaneta 173\, Savaneta\, Aruba
ATTACH;FMTTYPE=image/jpeg:https://arubazerowaste.com/wp-content/uploads/2023/02/297-farms.jpg
ORGANIZER;CN="297%20Farms":MAILTO:info@297farm.com
END:VEVENT
BEGIN:VEVENT
DTSTART;TZID=UTC:20230505T100000
DTEND;TZID=UTC:20230505T160000
DTSTAMP:20260420T204536
CREATED:20230411T123244Z
LAST-MODIFIED:20230411T123244Z
UID:1410-1683280800-1683302400@arubazerowaste.com
SUMMARY:Recycle Plastic
DESCRIPTION:Plastic Beach Party needs volunteers to help sort\, cut and wash plastics every Friday. (Other day’s and times are available\, just ask) \n  \nSign up via recycle@plasticbeachparty.com or 297-744-7829
URL:https://arubazerowaste.com/event/recycle-plastic-64/
LOCATION:Flemingstraat 26\, Flemingstraat 26\, Aruba
ATTACH;FMTTYPE=image/jpeg:https://arubazerowaste.com/wp-content/uploads/2022/04/WhatsApp-Image-2022-04-01-at-4.06.33-PM.jpeg
END:VEVENT
BEGIN:VEVENT
DTSTART;TZID=UTC:20230429T090000
DTEND;TZID=UTC:20230429T120000
DTSTAMP:20260420T204536
CREATED:20230411T145000Z
LAST-MODIFIED:20230411T145042Z
UID:1459-1682758800-1682769600@arubazerowaste.com
SUMMARY:Farmer's Market STR Agriculture
DESCRIPTION:Our Farmer’s Market is coming up and we are excited to share with you a variety of fresh and delicious vegetables and fruits!\nWe are waiting for you every Saturday from 9 a.m. to 12 p.m. at our local market located at Alto Vista Z/N.\nDon’t miss the opportunity to enjoy fresh and healthy products directly from our local farmers. In addition\, they will be able to meet and talk with the producers\, learn more about how vegetables and fruits are grown\, and discover new ways of preparing them.
URL:https://arubazerowaste.com/event/farmers-market-str-agriculture-10/
LOCATION:STR Agriculture\, Alto Vista Z/N\, Noord\, Aruba
ATTACH;FMTTYPE=image/jpeg:https://arubazerowaste.com/wp-content/uploads/2023/02/STR-every-Sat.jpg
ORGANIZER;CN="STR%20Agriculture":MAILTO:info@stragriculture.com
END:VEVENT
BEGIN:VEVENT
DTSTART;TZID=UTC:20230429T090000
DTEND;TZID=UTC:20230429T110000
DTSTAMP:20260420T204536
CREATED:20230411T142942Z
LAST-MODIFIED:20230411T142942Z
UID:1444-1682758800-1682766000@arubazerowaste.com
SUMMARY:Farmer's Market 297 Farms
DESCRIPTION:Saturday March 4th we are open from 9am to 11am. Savaneta 173 (Road to Jara football field)\n\n\nWe will have: Lettuce\, Cucumbers\, Eggs\, and mushrooms’ available to buy.\n\n\nCash only and remember to bring you bag.\n\n\nThank you for the continues support.
URL:https://arubazerowaste.com/event/farmers-market-297-farms-9/
LOCATION:297 Farms\, Savaneta 173\, Savaneta\, Aruba
ATTACH;FMTTYPE=image/jpeg:https://arubazerowaste.com/wp-content/uploads/2023/02/297-farms.jpg
ORGANIZER;CN="297%20Farms":MAILTO:info@297farm.com
END:VEVENT
BEGIN:VEVENT
DTSTART;TZID=UTC:20230428T100000
DTEND;TZID=UTC:20230428T160000
DTSTAMP:20260420T204536
CREATED:20230411T124256Z
LAST-MODIFIED:20230411T124256Z
UID:1418-1682676000-1682697600@arubazerowaste.com
SUMMARY:Recycle Plastic
DESCRIPTION:Plastic Beach Party needs volunteers to help sort\, cut and wash plastics every Friday. (Other day’s and times are available\, just ask) \n  \nSign up via recycle@plasticbeachparty.com or 297-744-7829
URL:https://arubazerowaste.com/event/recycle-plastic-68/
LOCATION:Flemingstraat 26\, Flemingstraat 26\, Aruba
ATTACH;FMTTYPE=image/jpeg:https://arubazerowaste.com/wp-content/uploads/2022/04/WhatsApp-Image-2022-04-01-at-4.10.06-PM.jpeg
END:VEVENT
BEGIN:VEVENT
DTSTART;TZID=UTC:20230422T090000
DTEND;TZID=UTC:20230422T120000
DTSTAMP:20260420T204536
CREATED:20230411T144908Z
LAST-MODIFIED:20230411T144908Z
UID:1457-1682154000-1682164800@arubazerowaste.com
SUMMARY:Farmer's Market STR Agriculture
DESCRIPTION:Our Farmer’s Market is coming up and we are excited to share with you a variety of fresh and delicious vegetables and fruits!\nWe are waiting for you every Saturday from 9 a.m. to 12 p.m. at our local market located at Alto Vista Z/N.\nDon’t miss the opportunity to enjoy fresh and healthy products directly from our local farmers. In addition\, they will be able to meet and talk with the producers\, learn more about how vegetables and fruits are grown\, and discover new ways of preparing them.
URL:https://arubazerowaste.com/event/farmers-market-str-agriculture-9/
LOCATION:STR Agriculture\, Alto Vista Z/N\, Noord\, Aruba
ATTACH;FMTTYPE=image/jpeg:https://arubazerowaste.com/wp-content/uploads/2023/02/STR-every-Sat.jpg
ORGANIZER;CN="STR%20Agriculture":MAILTO:info@stragriculture.com
END:VEVENT
BEGIN:VEVENT
DTSTART;TZID=UTC:20230422T090000
DTEND;TZID=UTC:20230422T110000
DTSTAMP:20260420T204536
CREATED:20230411T142855Z
LAST-MODIFIED:20230411T142855Z
UID:1442-1682154000-1682161200@arubazerowaste.com
SUMMARY:Farmer's Market 297 Farms
DESCRIPTION:Saturday March 4th we are open from 9am to 11am. Savaneta 173 (Road to Jara football field)\n\n\nWe will have: Lettuce\, Cucumbers\, Eggs\, and mushrooms’ available to buy.\n\n\nCash only and remember to bring you bag.\n\n\nThank you for the continues support.
URL:https://arubazerowaste.com/event/farmers-market-297-farms-8/
LOCATION:297 Farms\, Savaneta 173\, Savaneta\, Aruba
ATTACH;FMTTYPE=image/jpeg:https://arubazerowaste.com/wp-content/uploads/2023/02/297-farms.jpg
ORGANIZER;CN="297%20Farms":MAILTO:info@297farm.com
END:VEVENT
BEGIN:VEVENT
DTSTART;TZID=UTC:20230422T080000
DTEND;TZID=UTC:20230422T100000
DTSTAMP:20260420T204536
CREATED:20230425T090730Z
LAST-MODIFIED:20230425T090730Z
UID:1520-1682150400-1682157600@arubazerowaste.com
SUMMARY:Beach Clean-up ScubblesBubbles
DESCRIPTION:Volunteers needed for beach clean-up \nIf you are interested\, just show up to Ringon Beach at 8-10 am on April 22nd. 2023 \nBring gloves\, water\, hat\, snack\, and reef safe sunscreen.
URL:https://arubazerowaste.com/event/beach-clean-up-scubblesbubbles-3/
ATTACH;FMTTYPE=image/jpeg:https://arubazerowaste.com/wp-content/uploads/2023/04/earth-day-beach-clean-up-2023.jpg
END:VEVENT
BEGIN:VEVENT
DTSTART;VALUE=DATE:20230422
DTEND;VALUE=DATE:20230423
DTSTAMP:20260420T204536
CREATED:20230425T091222Z
LAST-MODIFIED:20230425T091222Z
UID:1523-1682121600-1682207999@arubazerowaste.com
SUMMARY:Earth Day treasure Hunt!
DESCRIPTION:Zero Waste Aruba will be hosting an Earth Day Treasure hunt Saturday April 22\, 2023.\n# earth’s filled with Zero Waste Products from the store are hidden around the island. Check out the Zero Waste Spot Facebook for more details on clue where the Earths will be hidden.\nhttps://www.facebook.com/kindhumansaruba
URL:https://arubazerowaste.com/event/earth-day-treasure-hunt/
ATTACH;FMTTYPE=image/jpeg:https://arubazerowaste.com/wp-content/uploads/2023/04/Earth-day-treasure-hunt.jpg
END:VEVENT
BEGIN:VEVENT
DTSTART;TZID=UTC:20230421T100000
DTEND;TZID=UTC:20230421T160000
DTSTAMP:20260420T204536
CREATED:20230411T124206Z
LAST-MODIFIED:20230411T124206Z
UID:1416-1682071200-1682092800@arubazerowaste.com
SUMMARY:Recycle Plastic
DESCRIPTION:Plastic Beach Party needs volunteers to help sort\, cut and wash plastics every Friday. (Other day’s and times are available\, just ask) \n  \nSign up via recycle@plasticbeachparty.com or 297-744-7829
URL:https://arubazerowaste.com/event/recycle-plastic-67/
LOCATION:Flemingstraat 26\, Flemingstraat 26\, Aruba
ATTACH;FMTTYPE=image/jpeg:https://arubazerowaste.com/wp-content/uploads/2022/04/WhatsApp-Image-2022-04-01-at-4.08.51-PM.jpeg
END:VEVENT
BEGIN:VEVENT
DTSTART;TZID=UTC:20230415T090000
DTEND;TZID=UTC:20230415T120000
DTSTAMP:20260420T204536
CREATED:20230411T144756Z
LAST-MODIFIED:20230411T144756Z
UID:1455-1681549200-1681560000@arubazerowaste.com
SUMMARY:Farmer's Market STR Agriculture
DESCRIPTION:Our Farmer’s Market is coming up and we are excited to share with you a variety of fresh and delicious vegetables and fruits!\nWe are waiting for you every Saturday from 9 a.m. to 12 p.m. at our local market located at Alto Vista Z/N.\nDon’t miss the opportunity to enjoy fresh and healthy products directly from our local farmers. In addition\, they will be able to meet and talk with the producers\, learn more about how vegetables and fruits are grown\, and discover new ways of preparing them.
URL:https://arubazerowaste.com/event/farmers-market-str-agriculture-8/
LOCATION:STR Agriculture\, Alto Vista Z/N\, Noord\, Aruba
ATTACH;FMTTYPE=image/jpeg:https://arubazerowaste.com/wp-content/uploads/2023/02/STR-every-Sat.jpg
ORGANIZER;CN="STR%20Agriculture":MAILTO:info@stragriculture.com
END:VEVENT
BEGIN:VEVENT
DTSTART;TZID=UTC:20230415T090000
DTEND;TZID=UTC:20230415T110000
DTSTAMP:20260420T204536
CREATED:20230411T142728Z
LAST-MODIFIED:20230411T142728Z
UID:1440-1681549200-1681556400@arubazerowaste.com
SUMMARY:Farmer's Market 297 Farms
DESCRIPTION:Saturday March 4th we are open from 9am to 11am. Savaneta 173 (Road to Jara football field)\n\n\nWe will have: Lettuce\, Cucumbers\, Eggs\, and mushrooms’ available to buy.\n\n\nCash only and remember to bring you bag.\n\n\nThank you for the continues support.
URL:https://arubazerowaste.com/event/farmers-market-297-farms-7/
LOCATION:297 Farms\, Savaneta 173\, Savaneta\, Aruba
ATTACH;FMTTYPE=image/jpeg:https://arubazerowaste.com/wp-content/uploads/2023/02/297-farms.jpg
ORGANIZER;CN="297%20Farms":MAILTO:info@297farm.com
END:VEVENT
BEGIN:VEVENT
DTSTART;TZID=UTC:20230414T100000
DTEND;TZID=UTC:20230414T160000
DTSTAMP:20260420T204536
CREATED:20230411T123815Z
LAST-MODIFIED:20230411T123815Z
UID:1412-1681466400-1681488000@arubazerowaste.com
SUMMARY:Recycle Plastic
DESCRIPTION:Plastic Beach Party needs volunteers to help sort\, cut and wash plastics every Friday. (Other day’s and times are available\, just ask) \n  \nSign up via recycle@plasticbeachparty.com or 297-744-7829
URL:https://arubazerowaste.com/event/recycle-plastic-65/
LOCATION:Flemingstraat 26\, Flemingstraat 26\, Aruba
ATTACH;FMTTYPE=image/jpeg:https://arubazerowaste.com/wp-content/uploads/2022/04/WhatsApp-Image-2022-04-01-at-4.07.07-PM.jpeg
END:VEVENT
BEGIN:VEVENT
DTSTART;TZID=UTC:20230408T090000
DTEND;TZID=UTC:20230408T120000
DTSTAMP:20260420T204536
CREATED:20230228T101710Z
LAST-MODIFIED:20230411T144544Z
UID:1375-1680944400-1680955200@arubazerowaste.com
SUMMARY:Farmer's Market STR Agriculture
DESCRIPTION:Our Farmer’s Market is coming up and we are excited to share with you a variety of fresh and delicious vegetables and fruits!\nWe are waiting for you every Saturday from 9 a.m. to 12 p.m. at our local market located at Alto Vista Z/N.\nDon’t miss the opportunity to enjoy fresh and healthy products directly from our local farmers. In addition\, they will be able to meet and talk with the producers\, learn more about how vegetables and fruits are grown\, and discover new ways of preparing them.
URL:https://arubazerowaste.com/event/farmers-market-str-agriculture-7/
LOCATION:STR Agriculture\, Alto Vista Z/N\, Noord\, Aruba
ATTACH;FMTTYPE=image/jpeg:https://arubazerowaste.com/wp-content/uploads/2023/02/STR-every-Sat.jpg
ORGANIZER;CN="STR%20Agriculture":MAILTO:info@stragriculture.com
END:VEVENT
BEGIN:VEVENT
DTSTART;TZID=UTC:20230408T090000
DTEND;TZID=UTC:20230408T110000
DTSTAMP:20260420T204536
CREATED:20230303T092805Z
LAST-MODIFIED:20230303T092805Z
UID:1398-1680944400-1680951600@arubazerowaste.com
SUMMARY:Farmer's Market 297 Farms
DESCRIPTION:Saturday March 4th we are open from 9am to 11am. Savaneta 173 (Road to Jara football field)\n\n\nWe will have: Lettuce\, Cucumbers\, Eggs\, and mushrooms’ available to buy.\n\n\nCash only and remember to bring you bag.\n\n\nThank you for the continues support.
URL:https://arubazerowaste.com/event/farmers-market-297-farms-6/
LOCATION:297 Farms\, Savaneta 173\, Savaneta\, Aruba
ATTACH;FMTTYPE=image/jpeg:https://arubazerowaste.com/wp-content/uploads/2023/02/297-farms.jpg
ORGANIZER;CN="297%20Farms":MAILTO:info@297farm.com
END:VEVENT
BEGIN:VEVENT
DTSTART;TZID=UTC:20230407T100000
DTEND;TZID=UTC:20230407T160000
DTSTAMP:20260420T204536
CREATED:20230411T124105Z
LAST-MODIFIED:20230411T124105Z
UID:1414-1680861600-1680883200@arubazerowaste.com
SUMMARY:Recycle Plastic
DESCRIPTION:Plastic Beach Party needs volunteers to help sort\, cut and wash plastics every Friday. (Other day’s and times are available\, just ask) \n  \nSign up via recycle@plasticbeachparty.com or 297-744-7829
URL:https://arubazerowaste.com/event/recycle-plastic-66/
LOCATION:Flemingstraat 26\, Flemingstraat 26\, Aruba
ATTACH;FMTTYPE=image/jpeg:https://arubazerowaste.com/wp-content/uploads/2022/04/WhatsApp-Image-2022-04-01-at-4.06.33-PM.jpeg
END:VEVENT
BEGIN:VEVENT
DTSTART;TZID=UTC:20230402T100000
DTEND;TZID=UTC:20230402T140000
DTSTAMP:20260420T204536
CREATED:20230411T150247Z
LAST-MODIFIED:20230411T150247Z
UID:1469-1680429600-1680444000@arubazerowaste.com
SUMMARY:Farmer's Market Ostrich Farm
DESCRIPTION:  \nLocal and sustainable artisans and farmers selling delicious snacks\, juices\, oils\, soaps\, cosmetics\, candles\, herb mixes and art works. \nFirst Sunday of the month\, 10am-2pm at the Ostrich farm
URL:https://arubazerowaste.com/event/farmers-market-ostrich-farm/
LOCATION:Ostrich Farm\, Matividiri 57\, Aruba
ATTACH;FMTTYPE=image/jpeg:https://arubazerowaste.com/wp-content/uploads/2022/12/FM-11-22.jpg
END:VEVENT
BEGIN:VEVENT
DTSTART;TZID=UTC:20230401T090000
DTEND;TZID=UTC:20230401T120000
DTSTAMP:20260420T204536
CREATED:20230228T101934Z
LAST-MODIFIED:20230411T145909Z
UID:1379-1680339600-1680350400@arubazerowaste.com
SUMMARY:Farmer's Market 297 Farms
DESCRIPTION:Saturday March 4th we are open from 9am to 11am. Savaneta 173 (Road to Jara football field)\n\n\nWe will have: Lettuce\, Cucumbers\, Eggs\, and mushrooms’ available to buy.\n\n\nCash only and remember to bring you bag.\n\n\nThank you for the continues support.
URL:https://arubazerowaste.com/event/farmers-market-297-farms-3/
LOCATION:297 Farms\, Savaneta 173\, Savaneta\, Aruba
ATTACH;FMTTYPE=image/jpeg:https://arubazerowaste.com/wp-content/uploads/2023/02/297-farms.jpg
ORGANIZER;CN="297%20Farms":MAILTO:info@297farm.com
END:VEVENT
END:VCALENDAR