BEGIN:VCALENDAR
VERSION:2.0
PRODID:-//Zero Waste Aruba - ECPv5.9.1//NONSGML v1.0//EN
CALSCALE:GREGORIAN
METHOD:PUBLISH
X-WR-CALNAME:Zero Waste Aruba
X-ORIGINAL-URL:https://arubazerowaste.com
X-WR-CALDESC:Events for Zero Waste Aruba
BEGIN:VTIMEZONE
TZID:UTC
BEGIN:STANDARD
TZOFFSETFROM:+0000
TZOFFSETTO:+0000
TZNAME:UTC
DTSTART:20230101T000000
END:STANDARD
END:VTIMEZONE
BEGIN:VEVENT
DTSTART;TZID=UTC:20230909T070000
DTEND;TZID=UTC:20230910T213000
DTSTAMP:20260420T123918
CREATED:20230905T101209Z
LAST-MODIFIED:20230905T101209Z
UID:1656-1694242800-1694381400@arubazerowaste.com
SUMMARY:Turning The Tides Volunteer event
DESCRIPTION:𝐎𝐍𝐄 𝐋𝐀𝐒𝐓 𝐂𝐀𝐋𝐋 𝐅𝐎𝐑 𝐕𝐎𝐋𝐔𝐍𝐓𝐄𝐄𝐑𝐒\n\n\nWe’re nearly there! After two intense weeks of welcoming volunteers to give a helping hand with ‘𝐓𝐮𝐫𝐧𝐢𝐧𝐠 𝐭𝐡𝐞 𝐓𝐢𝐝𝐞’\, we’re putting out one last call to the community of Aruba to come and help us get the remaining 𝟐𝟕𝟓 𝐌𝐀𝐑𝐑𝐒 𝐑𝐞𝐞𝐟 𝐒𝐭𝐚𝐫𝐬 ready to be placed at various locations inside Aruba’s Marine Protected Areas (MPA).\n\n\nIf you’re passionate about marine conservation and have the time to help us with this most important work to restore Aruba’s coral reefs\, please register using the link below.\n\n\nPlease take note that this work will be done at a dedicated workshop area and you will not be required to enter the ocean.\n\n\n𝐋𝐢𝐧𝐤: https://forms.office.com/r/7d7yF7dpzV\n\n\n𝐃𝐚𝐭𝐞𝐬: 1 to 10 September 2023\n𝐓𝐢𝐦𝐞: 5:30PM to 8:00PM or 7:00AM to 9:30AM on weekends\n\n\nYou’re help in restoring Aruba’s coral Reef is much appreciated! \n\n\nPlease visit our website to learn more about ‘Turning the Tide’ – an EU RESEMBID funded project for Aruba. https://bit.ly/3Lhylc3\n\n\n#conservation #marineconservation #coralrestoration #resembid\n\n\nScubbleBubbles Foundation University of Aruba Wageningen University & Research RESEMBID\n\n\n—\n\n\n𝐔𝐍 𝐔𝐋𝐓𝐈𝐌𝐎 𝐘𝐀𝐌𝐀𝐃𝐀 𝐏𝐀 𝐁𝐎𝐋𝐔𝐍𝐓𝐀𝐑𝐈𝐎\n\n\nNos ta casi yega nos meta! Despues di dos siman di hopi ayudo di diferente boluntarionan cu e proyecto ‘𝐓𝐮𝐫𝐧𝐢𝐧𝐠 𝐭𝐡𝐞 𝐓𝐢𝐝𝐞’\, nos kier haci un ultimo yamada na comunidad di Aruba pa bin duna un man y yuda nos prepara e ultimo 𝟐𝟕𝟓 𝐌𝐀𝐑𝐑𝐒 𝐑𝐞𝐞𝐟 𝐒𝐭𝐚𝐫𝐬 cu lo wordo poni na diferente lugarnan den nos Parke Marino.\n\n\nSi abo tin pasion pa conservacion di bida marino y bo tin tempo pa yuda nos cu e trabou importante aki pa restaura e rifnan di coral di Aruba\, porfabor registra usando e link akibou.\n\n\nTuma nota cu e trabou aki lo ta na un workshop dedica\, y no ta rekeri pa drenta awa.\n\n\nLink: https://forms.office.com/r/7d7yF7dpzV\n\n\n𝐃𝐢𝐚: 1 pa 10 di september 2023\n𝐎𝐫𝐚: 5:30PM pa 8:00PM of di 7:00AM pa 9:30AM den weekend\n\n\nBo ayudo den restaura Aruba su rifnan di coral ta altamente aprecia!\n\n\nPa mas informacion di ‘Turning the Tide\, un proyecto funda pa EU RESEMBID\, bishita nos website. https://bit.ly/3Lhylc3
URL:https://arubazerowaste.com/event/turning-the-tides-volunteer-event/
LOCATION:Arikok National Park\, San Fuego 70\, Santa Cruz\, Aruba
ATTACH;FMTTYPE=image/jpeg:https://arubazerowaste.com/wp-content/uploads/2023/09/TT-9-1-23.jpg
ORGANIZER;CN="Aruba%20National%20Park%20Foundation":MAILTO:info@arubanationalpark.org
END:VEVENT
END:VCALENDAR