BEGIN:VCALENDAR
VERSION:2.0
PRODID:-//Zero Waste Aruba - ECPv5.9.1//NONSGML v1.0//EN
CALSCALE:GREGORIAN
METHOD:PUBLISH
X-WR-CALNAME:Zero Waste Aruba
X-ORIGINAL-URL:https://arubazerowaste.com
X-WR-CALDESC:Events for Zero Waste Aruba
BEGIN:VTIMEZONE
TZID:UTC
BEGIN:STANDARD
TZOFFSETFROM:+0000
TZOFFSETTO:+0000
TZNAME:UTC
DTSTART:20230101T000000
END:STANDARD
END:VTIMEZONE
BEGIN:VEVENT
DTSTART;TZID=UTC:20230916T080000
DTEND;TZID=UTC:20230916T100000
DTSTAMP:20260420T122835
CREATED:20230909T222938Z
LAST-MODIFIED:20230909T222954Z
UID:1666-1694851200-1694858400@arubazerowaste.com
SUMMARY:Beach Clean up- ScubblesBubbles
DESCRIPTION:Volunteers needed for beach clean-up \nIf you are interested\, just show up to Sasarawichi Beach at 8-10 am on September 16th\, 2023 \nBring gloves\, water\, hat\, snack\, and reef safe sunscreen.
URL:https://arubazerowaste.com/event/beach-clean-up-scubblesbubbles-4/
ATTACH;FMTTYPE=image/jpeg:https://arubazerowaste.com/wp-content/uploads/2023/09/WhatsApp-Image-2023-09-09-at-5.49.53-PM.jpeg
END:VEVENT
END:VCALENDAR